BEGIN:VCALENDAR
PRODID:-//KDG Projects//Volleyscores.be//EN
VERSION:2.0
CALSCALE:GREGORIAN
METHOD:PUBLISH
NAME:Wolvertem Sporting C
X-WR-CALNAME:Wolvertem Sporting C
X-WR-RELCALID:t=96908@volleyadmin2.be
REFRESH-INTERVAL;VALUE=DURATION:PT4H
X-PUBLISHED-TTL:PT4H
BEGIN:VTIMEZONE
TZID:Europe/Brussels
X-LIC-LOCATION:Europe/Brussels
BEGIN:DAYLIGHT
TZOFFSETFROM:+0100
TZOFFSETTO:+0200
TZNAME:CEST
DTSTART:19700329T020000
RRULE:FREQ=YEARLY;BYMONTH=3;BYDAY=-1SU
END:DAYLIGHT
BEGIN:STANDARD
TZOFFSETFROM:+0200
TZOFFSETTO:+0100
TZNAME:CET
DTSTART:19701025T030000
RRULE:FREQ=YEARLY;BYMONTH=10;BYDAY=-1SU
END:STANDARD
END:VTIMEZONE
BEGIN:VEVENT
DTSTART:20250913T190000Z
DTEND:20250913T203000Z
DTSTAMP:20260422T132900Z
UID:461680
CREATED:20260422T132900Z
DESCRIPTION:VDP4-A-0005: Wolvertem Sporting B - Wolvertem Sporting C\n
	\nLocatie: Wolvertem, Sportschuur\nPopulierenlaan 20, 1861 Wolvertem\n
	\nLaatste update: 22/04/2026 15:29\n\nDe wedstrijd info wordt minstens
	 1x per dag geupdate. Dus als de update datum niet recent is, dan kan 
	het zijn dat je niet de laatste informatie hebt. Dit ligt typisch aan 
	instellingen op je telefoon.
LAST-MODIFIED:20260422T132900Z
LOCATION:Wolvertem, Sportschuur, Populierenlaan 20, 1861 Wolvertem Bel
	gie
SEQUENCE:0
STATUS:CONFIRMED
SUMMARY:VDP4-A-0005: Wolvertem Sporting B - Wolvertem Sporting C
TRANSP:OPAQUE
END:VEVENT
BEGIN:VEVENT
DTSTART:20250920T150000Z
DTEND:20250920T163000Z
DTSTAMP:20260422T132900Z
UID:461685
CREATED:20260422T132900Z
DESCRIPTION:VDP4-A-0010: Wolvertem Sporting C - VC Feniks Haacht D\n\n
	Locatie: Wolvertem, Sportschuur\nPopulierenlaan 20, 1861 Wolvertem\n\n
	Laatste update: 22/04/2026 15:29\n\nDe wedstrijd info wordt minstens 1
	x per dag geupdate. Dus als de update datum niet recent is, dan kan he
	t zijn dat je niet de laatste informatie hebt. Dit ligt typisch aan in
	stellingen op je telefoon.
LAST-MODIFIED:20260422T132900Z
LOCATION:Wolvertem, Sportschuur, Populierenlaan 20, 1861 Wolvertem Bel
	gie
SEQUENCE:0
STATUS:CONFIRMED
SUMMARY:VDP4-A-0010: Wolvertem Sporting C - VC Feniks Haacht D
TRANSP:OPAQUE
END:VEVENT
BEGIN:VEVENT
DTSTART:20250926T190000Z
DTEND:20250926T203000Z
DTSTAMP:20260422T132900Z
UID:461688
CREATED:20260422T132900Z
DESCRIPTION:VDP4-A-0013: Sterko Kortenberg A - Wolvertem Sporting C\n\
	nLocatie: Erps-Kwerps, Sporthal \nOude Baan 14, 3071 Erps-Kwerps\n\nLa
	atste update: 22/04/2026 15:29\n\nDe wedstrijd info wordt minstens 1x 
	per dag geupdate. Dus als de update datum niet recent is, dan kan het 
	zijn dat je niet de laatste informatie hebt. Dit ligt typisch aan inst
	ellingen op je telefoon.
LAST-MODIFIED:20260422T132900Z
LOCATION:Erps-Kwerps, Sporthal , Oude Baan 14, 3071 Erps-Kwerps Belgie
SEQUENCE:0
STATUS:CONFIRMED
SUMMARY:VDP4-A-0013: Sterko Kortenberg A - Wolvertem Sporting C
TRANSP:OPAQUE
END:VEVENT
BEGIN:VEVENT
DTSTART:20251011T130000Z
DTEND:20251011T143000Z
DTSTAMP:20260422T132900Z
UID:461696
CREATED:20260422T132900Z
DESCRIPTION:VDP4-A-0021: Wolvertem Sporting C - HZ 93 Hofstade-Zemst C
	\n\nLocatie: Wolvertem, Sportschuur\nPopulierenlaan 20, 1861 Wolvertem
	\n\nLaatste update: 22/04/2026 15:29\n\nDe wedstrijd info wordt minste
	ns 1x per dag geupdate. Dus als de update datum niet recent is, dan ka
	n het zijn dat je niet de laatste informatie hebt. Dit ligt typisch aa
	n instellingen op je telefoon.
LAST-MODIFIED:20260422T132900Z
LOCATION:Wolvertem, Sportschuur, Populierenlaan 20, 1861 Wolvertem Bel
	gie
SEQUENCE:0
STATUS:CONFIRMED
SUMMARY:VDP4-A-0021: Wolvertem Sporting C - HZ 93 Hofstade-Zemst C
TRANSP:OPAQUE
END:VEVENT
BEGIN:VEVENT
DTSTART:20260131T200000Z
DTEND:20260131T213000Z
DTSTAMP:20260422T132900Z
UID:461705
CREATED:20260422T132900Z
DESCRIPTION:VDP4-A-0030: Daatmet Liedekerke B - Wolvertem Sporting C\n
	\nLocatie: Liedekerke, Sporthal Heuvelkouter\nSportlaan 3, 1770 Liedek
	erke\n\nLaatste update: 22/04/2026 15:29\n\nDe wedstrijd info wordt mi
	nstens 1x per dag geupdate. Dus als de update datum niet recent is, da
	n kan het zijn dat je niet de laatste informatie hebt. Dit ligt typisc
	h aan instellingen op je telefoon.
LAST-MODIFIED:20260422T132900Z
LOCATION:Liedekerke, Sporthal Heuvelkouter, Sportlaan 3, 1770 Liedeker
	ke Belgie
SEQUENCE:0
STATUS:CONFIRMED
SUMMARY:VDP4-A-0030: Daatmet Liedekerke B - Wolvertem Sporting C
TRANSP:OPAQUE
END:VEVENT
BEGIN:VEVENT
DTSTART:20260321T193000Z
DTEND:20260321T210000Z
DTSTAMP:20260422T132900Z
UID:461709
CREATED:20260422T132900Z
DESCRIPTION:VDP4-A-0034: Grivok Grimbergen C - Wolvertem Sporting C\n\
	nLocatie: Grimbergen, Gemeentelijke Sporthal Prinsenbos\nPastoor Woute
	rsstraat , 1850 Grimbergen\n\nLaatste update: 22/04/2026 15:29\n\nDe w
	edstrijd info wordt minstens 1x per dag geupdate. Dus als de update da
	tum niet recent is, dan kan het zijn dat je niet de laatste informatie
	 hebt. Dit ligt typisch aan instellingen op je telefoon.
LAST-MODIFIED:20260422T132900Z
LOCATION:Grimbergen, Gemeentelijke Sporthal Prinsenbos, Pastoor Wouter
	sstraat, 1850 Grimbergen Belgie
SEQUENCE:0
STATUS:CONFIRMED
SUMMARY:VDP4-A-0034: Grivok Grimbergen C - Wolvertem Sporting C
TRANSP:OPAQUE
END:VEVENT
BEGIN:VEVENT
DTSTART:20260307T140000Z
DTEND:20260307T153000Z
DTSTAMP:20260422T132900Z
UID:461714
CREATED:20260422T132900Z
DESCRIPTION:VDP4-A-0039: Wolvertem Sporting C - Brussels Volley\n\nLoc
	atie: Wolvertem, Sportschuur\nPopulierenlaan 20, 1861 Wolvertem\n\nLaa
	tste update: 22/04/2026 15:29\n\nDe wedstrijd info wordt minstens 1x p
	er dag geupdate. Dus als de update datum niet recent is, dan kan het z
	ijn dat je niet de laatste informatie hebt. Dit ligt typisch aan inste
	llingen op je telefoon.
LAST-MODIFIED:20260422T132900Z
LOCATION:Wolvertem, Sportschuur, Populierenlaan 20, 1861 Wolvertem Bel
	gie
SEQUENCE:0
STATUS:CONFIRMED
SUMMARY:VDP4-A-0039: Wolvertem Sporting C - Brussels Volley
TRANSP:OPAQUE
END:VEVENT
BEGIN:VEVENT
DTSTART:20251122T193000Z
DTEND:20251122T210000Z
DTSTAMP:20260422T132900Z
UID:461719
CREATED:20260422T132900Z
DESCRIPTION:VDP4-A-0044: Beruvoc Halle B - Wolvertem Sporting C\n\nLoc
	atie: Halle, GO! Technisch Atheneum \nKluisstraat 1, 1500 Halle\n\nLaa
	tste update: 22/04/2026 15:29\n\nDe wedstrijd info wordt minstens 1x p
	er dag geupdate. Dus als de update datum niet recent is, dan kan het z
	ijn dat je niet de laatste informatie hebt. Dit ligt typisch aan inste
	llingen op je telefoon.
LAST-MODIFIED:20260422T132900Z
LOCATION:Halle, GO! Technisch Atheneum , Kluisstraat 1, 1500 Halle Bel
	gie
SEQUENCE:0
STATUS:CONFIRMED
SUMMARY:VDP4-A-0044: Beruvoc Halle B - Wolvertem Sporting C
TRANSP:OPAQUE
END:VEVENT
BEGIN:VEVENT
DTSTART:20251206T183000Z
DTEND:20251206T200000Z
DTSTAMP:20260422T132900Z
UID:461729
CREATED:20260422T132900Z
DESCRIPTION:VDP4-A-0054: Volley Schepdaal VZW D - Wolvertem Sporting C
	\n\nLocatie: Schepdaal, Sporthal Caerenbergveld\nKerkhofstraat , 1703 
	Schepdaal\n\nLaatste update: 22/04/2026 15:29\n\nDe wedstrijd info wor
	dt minstens 1x per dag geupdate. Dus als de update datum niet recent i
	s, dan kan het zijn dat je niet de laatste informatie hebt. Dit ligt t
	ypisch aan instellingen op je telefoon.
LAST-MODIFIED:20260422T132900Z
LOCATION:Schepdaal, Sporthal Caerenbergveld, Kerkhofstraat, 1703 Schep
	daal Belgie
SEQUENCE:0
STATUS:CONFIRMED
SUMMARY:VDP4-A-0054: Volley Schepdaal VZW D - Wolvertem Sporting C
TRANSP:OPAQUE
END:VEVENT
BEGIN:VEVENT
DTSTART:20260103T160000Z
DTEND:20260103T173000Z
DTSTAMP:20260422T132900Z
UID:461735
CREATED:20260422T132900Z
DESCRIPTION:VDP4-A-0060: Wolvertem Sporting C - Wolvertem Sporting B\n
	\nLocatie: Wolvertem, Sportschuur\nPopulierenlaan 20, 1861 Wolvertem\n
	\nLaatste update: 22/04/2026 15:29\n\nDe wedstrijd info wordt minstens
	 1x per dag geupdate. Dus als de update datum niet recent is, dan kan 
	het zijn dat je niet de laatste informatie hebt. Dit ligt typisch aan 
	instellingen op je telefoon.
LAST-MODIFIED:20260422T132900Z
LOCATION:Wolvertem, Sportschuur, Populierenlaan 20, 1861 Wolvertem Bel
	gie
SEQUENCE:0
STATUS:CONFIRMED
SUMMARY:VDP4-A-0060: Wolvertem Sporting C - Wolvertem Sporting B
TRANSP:OPAQUE
END:VEVENT
BEGIN:VEVENT
DTSTART:20260110T150000Z
DTEND:20260110T163000Z
DTSTAMP:20260422T132900Z
UID:461740
CREATED:20260422T132900Z
DESCRIPTION:VDP4-A-0065: VC Feniks Haacht D - Wolvertem Sporting C\n\n
	Locatie: Wespelaar, Sportcomplex Den Dijk\nDijkstraat 1, 3150 Haacht (
	Wespelaar)\n\nLaatste update: 22/04/2026 15:29\n\nDe wedstrijd info wo
	rdt minstens 1x per dag geupdate. Dus als de update datum niet recent 
	is, dan kan het zijn dat je niet de laatste informatie hebt. Dit ligt 
	typisch aan instellingen op je telefoon.
LAST-MODIFIED:20260422T132900Z
LOCATION:Wespelaar, Sportcomplex Den Dijk, Dijkstraat 1, 3150 Haacht (
	Wespelaar) Belgie
SEQUENCE:0
STATUS:CONFIRMED
SUMMARY:VDP4-A-0065: VC Feniks Haacht D - Wolvertem Sporting C
TRANSP:OPAQUE
END:VEVENT
BEGIN:VEVENT
DTSTART:20260221T160000Z
DTEND:20260221T173000Z
DTSTAMP:20260422T132900Z
UID:461745
CREATED:20260422T132900Z
DESCRIPTION:VDP4-A-0070: Wolvertem Sporting C - Sterko Kortenberg A\n\
	nLocatie: Wolvertem, Sportschuur\nPopulierenlaan 20, 1861 Wolvertem\n\
	nLaatste update: 22/04/2026 15:29\n\nDe wedstrijd info wordt minstens 
	1x per dag geupdate. Dus als de update datum niet recent is, dan kan h
	et zijn dat je niet de laatste informatie hebt. Dit ligt typisch aan i
	nstellingen op je telefoon.
LAST-MODIFIED:20260422T132900Z
LOCATION:Wolvertem, Sportschuur, Populierenlaan 20, 1861 Wolvertem Bel
	gie
SEQUENCE:0
STATUS:CONFIRMED
SUMMARY:VDP4-A-0070: Wolvertem Sporting C - Sterko Kortenberg A
TRANSP:OPAQUE
END:VEVENT
BEGIN:VEVENT
DTSTART:20260412T170000Z
DTEND:20260412T183000Z
DTSTAMP:20260422T132900Z
UID:461755
CREATED:20260422T132900Z
DESCRIPTION:VDP4-A-0080: HZ 93 Hofstade-Zemst C - Wolvertem Sporting C
	\n\nLocatie: Zemst, Den Turfput\nBrusselsesteenweg 5, 1980 Zemst\n\nLa
	atste update: 22/04/2026 15:29\n\nDe wedstrijd info wordt minstens 1x 
	per dag geupdate. Dus als de update datum niet recent is, dan kan het 
	zijn dat je niet de laatste informatie hebt. Dit ligt typisch aan inst
	ellingen op je telefoon.
LAST-MODIFIED:20260422T132900Z
LOCATION:Zemst, Den Turfput, Brusselsesteenweg 5, 1980 Zemst Belgie
SEQUENCE:0
STATUS:CONFIRMED
SUMMARY:VDP4-A-0080: HZ 93 Hofstade-Zemst C - Wolvertem Sporting C
TRANSP:OPAQUE
END:VEVENT
BEGIN:VEVENT
DTSTART:20260207T160000Z
DTEND:20260207T173000Z
DTSTAMP:20260422T132900Z
UID:461756
CREATED:20260422T132900Z
DESCRIPTION:VDP4-A-0081: Wolvertem Sporting C - Daatmet Liedekerke B\n
	\nLocatie: Wolvertem, Sportschuur\nPopulierenlaan 20, 1861 Wolvertem\n
	\nLaatste update: 22/04/2026 15:29\n\nDe wedstrijd info wordt minstens
	 1x per dag geupdate. Dus als de update datum niet recent is, dan kan 
	het zijn dat je niet de laatste informatie hebt. Dit ligt typisch aan 
	instellingen op je telefoon.
LAST-MODIFIED:20260422T132900Z
LOCATION:Wolvertem, Sportschuur, Populierenlaan 20, 1861 Wolvertem Bel
	gie
SEQUENCE:0
STATUS:CONFIRMED
SUMMARY:VDP4-A-0081: Wolvertem Sporting C - Daatmet Liedekerke B
TRANSP:OPAQUE
END:VEVENT
BEGIN:VEVENT
DTSTART:20251108T200000Z
DTEND:20251108T213000Z
DTSTAMP:20260422T132900Z
UID:461764
CREATED:20260422T132900Z
DESCRIPTION:VDP4-A-0089: Wolvertem Sporting C - Grivok Grimbergen C\n\
	nLocatie: Wolvertem, Sportschuur\nPopulierenlaan 20, 1861 Wolvertem\n\
	nLaatste update: 22/04/2026 15:29\n\nDe wedstrijd info wordt minstens 
	1x per dag geupdate. Dus als de update datum niet recent is, dan kan h
	et zijn dat je niet de laatste informatie hebt. Dit ligt typisch aan i
	nstellingen op je telefoon.
LAST-MODIFIED:20260422T132900Z
LOCATION:Wolvertem, Sportschuur, Populierenlaan 20, 1861 Wolvertem Bel
	gie
SEQUENCE:0
STATUS:CONFIRMED
SUMMARY:VDP4-A-0089: Wolvertem Sporting C - Grivok Grimbergen C
TRANSP:OPAQUE
END:VEVENT
BEGIN:VEVENT
DTSTART:20251115T150000Z
DTEND:20251115T163000Z
DTSTAMP:20260422T132900Z
UID:461767
CREATED:20260422T132900Z
DESCRIPTION:VDP4-A-0092: Brussels Volley - Wolvertem Sporting C\n\nLoc
	atie: Ganshoren, Sporthal \nVandervekenstraat 114, 1083 Ganshoren\n\nL
	aatste update: 22/04/2026 15:29\n\nDe wedstrijd info wordt minstens 1x
	 per dag geupdate. Dus als de update datum niet recent is, dan kan het
	 zijn dat je niet de laatste informatie hebt. Dit ligt typisch aan ins
	tellingen op je telefoon.
LAST-MODIFIED:20260422T132900Z
LOCATION:Ganshoren, Sporthal , Vandervekenstraat 114, 1083 Ganshoren B
	elgie
SEQUENCE:0
STATUS:CONFIRMED
SUMMARY:VDP4-A-0092: Brussels Volley - Wolvertem Sporting C
TRANSP:OPAQUE
END:VEVENT
BEGIN:VEVENT
DTSTART:20260314T160000Z
DTEND:20260314T173000Z
DTSTAMP:20260422T132900Z
UID:461774
CREATED:20260422T132900Z
DESCRIPTION:VDP4-A-0099: Wolvertem Sporting C - Beruvoc Halle B\n\nLoc
	atie: Wolvertem, Sportschuur\nPopulierenlaan 20, 1861 Wolvertem\n\nLaa
	tste update: 22/04/2026 15:29\n\nDe wedstrijd info wordt minstens 1x p
	er dag geupdate. Dus als de update datum niet recent is, dan kan het z
	ijn dat je niet de laatste informatie hebt. Dit ligt typisch aan inste
	llingen op je telefoon.
LAST-MODIFIED:20260422T132900Z
LOCATION:Wolvertem, Sportschuur, Populierenlaan 20, 1861 Wolvertem Bel
	gie
SEQUENCE:0
STATUS:CONFIRMED
SUMMARY:VDP4-A-0099: Wolvertem Sporting C - Beruvoc Halle B
TRANSP:OPAQUE
END:VEVENT
BEGIN:VEVENT
DTSTART:20260418T150000Z
DTEND:20260418T163000Z
DTSTAMP:20260422T132900Z
UID:461785
CREATED:20260422T132900Z
DESCRIPTION:VDP4-A-0110: Wolvertem Sporting C - Volley Schepdaal VZW D
	\n\nLocatie: Wolvertem, Sportschuur\nPopulierenlaan 20, 1861 Wolvertem
	\n\nLaatste update: 22/04/2026 15:29\n\nDe wedstrijd info wordt minste
	ns 1x per dag geupdate. Dus als de update datum niet recent is, dan ka
	n het zijn dat je niet de laatste informatie hebt. Dit ligt typisch aa
	n instellingen op je telefoon.
LAST-MODIFIED:20260422T132900Z
LOCATION:Wolvertem, Sportschuur, Populierenlaan 20, 1861 Wolvertem Bel
	gie
SEQUENCE:0
STATUS:CONFIRMED
SUMMARY:VDP4-A-0110: Wolvertem Sporting C - Volley Schepdaal VZW D
TRANSP:OPAQUE
END:VEVENT
END:VCALENDAR