BEGIN:VCALENDAR
PRODID:-//KDG Projects//Volleyscores.be//EN
VERSION:2.0
CALSCALE:GREGORIAN
METHOD:PUBLISH
NAME:Wolvertem Sporting B
X-WR-CALNAME:Wolvertem Sporting B
X-WR-RELCALID:t=96907@volleyadmin2.be
REFRESH-INTERVAL;VALUE=DURATION:PT4H
X-PUBLISHED-TTL:PT4H
BEGIN:VTIMEZONE
TZID:Europe/Brussels
X-LIC-LOCATION:Europe/Brussels
BEGIN:DAYLIGHT
TZOFFSETFROM:+0100
TZOFFSETTO:+0200
TZNAME:CEST
DTSTART:19700329T020000
RRULE:FREQ=YEARLY;BYMONTH=3;BYDAY=-1SU
END:DAYLIGHT
BEGIN:STANDARD
TZOFFSETFROM:+0200
TZOFFSETTO:+0100
TZNAME:CET
DTSTART:19701025T030000
RRULE:FREQ=YEARLY;BYMONTH=10;BYDAY=-1SU
END:STANDARD
END:VTIMEZONE
BEGIN:VEVENT
DTSTART:20250913T190000Z
DTEND:20250913T203000Z
DTSTAMP:20260422T132800Z
UID:461680
CREATED:20260422T132800Z
DESCRIPTION:VDP4-A-0005: Wolvertem Sporting B - Wolvertem Sporting C\n
	\nLocatie: Wolvertem, Sportschuur\nPopulierenlaan 20, 1861 Wolvertem\n
	\nLaatste update: 22/04/2026 15:28\n\nDe wedstrijd info wordt minstens
	 1x per dag geupdate. Dus als de update datum niet recent is, dan kan 
	het zijn dat je niet de laatste informatie hebt. Dit ligt typisch aan 
	instellingen op je telefoon.
LAST-MODIFIED:20260422T132800Z
LOCATION:Wolvertem, Sportschuur, Populierenlaan 20, 1861 Wolvertem Bel
	gie
SEQUENCE:0
STATUS:CONFIRMED
SUMMARY:VDP4-A-0005: Wolvertem Sporting B - Wolvertem Sporting C
TRANSP:OPAQUE
END:VEVENT
BEGIN:VEVENT
DTSTART:20260117T200000Z
DTEND:20260117T213000Z
DTSTAMP:20260422T132800Z
UID:461689
CREATED:20260422T132800Z
DESCRIPTION:VDP4-A-0014: Wolvertem Sporting B - Brussels Volley\n\nLoc
	atie: Wolvertem, Sportschuur\nPopulierenlaan 20, 1861 Wolvertem\n\nLaa
	tste update: 22/04/2026 15:28\n\nDe wedstrijd info wordt minstens 1x p
	er dag geupdate. Dus als de update datum niet recent is, dan kan het z
	ijn dat je niet de laatste informatie hebt. Dit ligt typisch aan inste
	llingen op je telefoon.
LAST-MODIFIED:20260422T132800Z
LOCATION:Wolvertem, Sportschuur, Populierenlaan 20, 1861 Wolvertem Bel
	gie
SEQUENCE:0
STATUS:CONFIRMED
SUMMARY:VDP4-A-0014: Wolvertem Sporting B - Brussels Volley
TRANSP:OPAQUE
END:VEVENT
BEGIN:VEVENT
DTSTART:20251004T183000Z
DTEND:20251004T200000Z
DTSTAMP:20260422T132800Z
UID:461692
CREATED:20260422T132800Z
DESCRIPTION:VDP4-A-0017: Grivok Grimbergen C - Wolvertem Sporting B\n\
	nLocatie: Grimbergen, Gemeentelijke Sporthal Prinsenbos\nPastoor Woute
	rsstraat , 1850 Grimbergen\n\nLaatste update: 22/04/2026 15:28\n\nDe w
	edstrijd info wordt minstens 1x per dag geupdate. Dus als de update da
	tum niet recent is, dan kan het zijn dat je niet de laatste informatie
	 hebt. Dit ligt typisch aan instellingen op je telefoon.
LAST-MODIFIED:20260422T132800Z
LOCATION:Grimbergen, Gemeentelijke Sporthal Prinsenbos, Pastoor Wouter
	sstraat, 1850 Grimbergen Belgie
SEQUENCE:0
STATUS:CONFIRMED
SUMMARY:VDP4-A-0017: Grivok Grimbergen C - Wolvertem Sporting B
TRANSP:OPAQUE
END:VEVENT
BEGIN:VEVENT
DTSTART:20251011T190000Z
DTEND:20251011T203000Z
DTSTAMP:20260422T132800Z
UID:461699
CREATED:20260422T132800Z
DESCRIPTION:VDP4-A-0024: Wolvertem Sporting B - Beruvoc Halle B\n\nLoc
	atie: Wolvertem, Sportschuur\nPopulierenlaan 20, 1861 Wolvertem\n\nLaa
	tste update: 22/04/2026 15:28\n\nDe wedstrijd info wordt minstens 1x p
	er dag geupdate. Dus als de update datum niet recent is, dan kan het z
	ijn dat je niet de laatste informatie hebt. Dit ligt typisch aan inste
	llingen op je telefoon.
LAST-MODIFIED:20260422T132800Z
LOCATION:Wolvertem, Sportschuur, Populierenlaan 20, 1861 Wolvertem Bel
	gie
SEQUENCE:0
STATUS:CONFIRMED
SUMMARY:VDP4-A-0024: Wolvertem Sporting B - Beruvoc Halle B
TRANSP:OPAQUE
END:VEVENT
BEGIN:VEVENT
DTSTART:20251025T190000Z
DTEND:20251025T203000Z
DTSTAMP:20260422T132800Z
UID:461704
CREATED:20260422T132800Z
DESCRIPTION:VDP4-A-0029: Volley Schepdaal VZW D - Wolvertem Sporting B
	\n\nLocatie: Schepdaal, Sporthal Caerenbergveld\nKerkhofstraat , 1703 
	Schepdaal\n\nLaatste update: 22/04/2026 15:28\n\nDe wedstrijd info wor
	dt minstens 1x per dag geupdate. Dus als de update datum niet recent i
	s, dan kan het zijn dat je niet de laatste informatie hebt. Dit ligt t
	ypisch aan instellingen op je telefoon.
LAST-MODIFIED:20260422T132800Z
LOCATION:Schepdaal, Sporthal Caerenbergveld, Kerkhofstraat, 1703 Schep
	daal Belgie
SEQUENCE:0
STATUS:CONFIRMED
SUMMARY:VDP4-A-0029: Volley Schepdaal VZW D - Wolvertem Sporting B
TRANSP:OPAQUE
END:VEVENT
BEGIN:VEVENT
DTSTART:20251108T200000Z
DTEND:20251108T213000Z
DTSTAMP:20260422T132800Z
UID:461708
CREATED:20260422T132800Z
DESCRIPTION:VDP4-A-0033: Wolvertem Sporting B - Daatmet Liedekerke B\n
	\nLocatie: Wolvertem, Sportschuur\nPopulierenlaan 20, 1861 Wolvertem\n
	\nLaatste update: 22/04/2026 15:28\n\nDe wedstrijd info wordt minstens
	 1x per dag geupdate. Dus als de update datum niet recent is, dan kan 
	het zijn dat je niet de laatste informatie hebt. Dit ligt typisch aan 
	instellingen op je telefoon.
LAST-MODIFIED:20260422T132800Z
LOCATION:Wolvertem, Sportschuur, Populierenlaan 20, 1861 Wolvertem Bel
	gie
SEQUENCE:0
STATUS:CONFIRMED
SUMMARY:VDP4-A-0033: Wolvertem Sporting B - Daatmet Liedekerke B
TRANSP:OPAQUE
END:VEVENT
BEGIN:VEVENT
DTSTART:20251115T200000Z
DTEND:20251115T213000Z
DTSTAMP:20260422T132800Z
UID:461713
CREATED:20260422T132800Z
DESCRIPTION:VDP4-A-0038: Wolvertem Sporting B - HZ 93 Hofstade-Zemst C
	\n\nLocatie: Wolvertem, Sportschuur\nPopulierenlaan 20, 1861 Wolvertem
	\n\nLaatste update: 22/04/2026 15:28\n\nDe wedstrijd info wordt minste
	ns 1x per dag geupdate. Dus als de update datum niet recent is, dan ka
	n het zijn dat je niet de laatste informatie hebt. Dit ligt typisch aa
	n instellingen op je telefoon.
LAST-MODIFIED:20260422T132800Z
LOCATION:Wolvertem, Sportschuur, Populierenlaan 20, 1861 Wolvertem Bel
	gie
SEQUENCE:0
STATUS:CONFIRMED
SUMMARY:VDP4-A-0038: Wolvertem Sporting B - HZ 93 Hofstade-Zemst C
TRANSP:OPAQUE
END:VEVENT
BEGIN:VEVENT
DTSTART:20251121T200000Z
DTEND:20251121T213000Z
DTSTAMP:20260422T132800Z
UID:461718
CREATED:20260422T132800Z
DESCRIPTION:VDP4-A-0043: Sterko Kortenberg A - Wolvertem Sporting B\n\
	nLocatie: Erps-Kwerps, Sporthal \nOude Baan 14, 3071 Erps-Kwerps\n\nLa
	atste update: 22/04/2026 15:28\n\nDe wedstrijd info wordt minstens 1x 
	per dag geupdate. Dus als de update datum niet recent is, dan kan het 
	zijn dat je niet de laatste informatie hebt. Dit ligt typisch aan inst
	ellingen op je telefoon.
LAST-MODIFIED:20260422T132800Z
LOCATION:Erps-Kwerps, Sporthal , Oude Baan 14, 3071 Erps-Kwerps Belgie
SEQUENCE:0
STATUS:CONFIRMED
SUMMARY:VDP4-A-0043: Sterko Kortenberg A - Wolvertem Sporting B
TRANSP:OPAQUE
END:VEVENT
BEGIN:VEVENT
DTSTART:20260328T200000Z
DTEND:20260328T213000Z
DTSTAMP:20260422T132800Z
UID:461725
CREATED:20260422T132800Z
DESCRIPTION:VDP4-A-0050: Wolvertem Sporting B - VC Feniks Haacht D\n\n
	Locatie: Wolvertem, Sportschuur\nPopulierenlaan 20, 1861 Wolvertem\n\n
	Laatste update: 22/04/2026 15:28\n\nDe wedstrijd info wordt minstens 1
	x per dag geupdate. Dus als de update datum niet recent is, dan kan he
	t zijn dat je niet de laatste informatie hebt. Dit ligt typisch aan in
	stellingen op je telefoon.
LAST-MODIFIED:20260422T132800Z
LOCATION:Wolvertem, Sportschuur, Populierenlaan 20, 1861 Wolvertem Bel
	gie
SEQUENCE:0
STATUS:CONFIRMED
SUMMARY:VDP4-A-0050: Wolvertem Sporting B - VC Feniks Haacht D
TRANSP:OPAQUE
END:VEVENT
BEGIN:VEVENT
DTSTART:20260103T160000Z
DTEND:20260103T173000Z
DTSTAMP:20260422T132800Z
UID:461735
CREATED:20260422T132800Z
DESCRIPTION:VDP4-A-0060: Wolvertem Sporting C - Wolvertem Sporting B\n
	\nLocatie: Wolvertem, Sportschuur\nPopulierenlaan 20, 1861 Wolvertem\n
	\nLaatste update: 22/04/2026 15:28\n\nDe wedstrijd info wordt minstens
	 1x per dag geupdate. Dus als de update datum niet recent is, dan kan 
	het zijn dat je niet de laatste informatie hebt. Dit ligt typisch aan 
	instellingen op je telefoon.
LAST-MODIFIED:20260422T132800Z
LOCATION:Wolvertem, Sportschuur, Populierenlaan 20, 1861 Wolvertem Bel
	gie
SEQUENCE:0
STATUS:CONFIRMED
SUMMARY:VDP4-A-0060: Wolvertem Sporting C - Wolvertem Sporting B
TRANSP:OPAQUE
END:VEVENT
BEGIN:VEVENT
DTSTART:20250927T140000Z
DTEND:20250927T153000Z
DTSTAMP:20260422T132800Z
UID:461741
CREATED:20260422T132800Z
DESCRIPTION:VDP4-A-0066: Brussels Volley - Wolvertem Sporting B\n\nLoc
	atie: Ganshoren, Sporthal \nVandervekenstraat 114, 1083 Ganshoren\n\nL
	aatste update: 22/04/2026 15:28\n\nDe wedstrijd info wordt minstens 1x
	 per dag geupdate. Dus als de update datum niet recent is, dan kan het
	 zijn dat je niet de laatste informatie hebt. Dit ligt typisch aan ins
	tellingen op je telefoon.
LAST-MODIFIED:20260422T132800Z
LOCATION:Ganshoren, Sporthal , Vandervekenstraat 114, 1083 Ganshoren B
	elgie
SEQUENCE:0
STATUS:CONFIRMED
SUMMARY:VDP4-A-0066: Brussels Volley - Wolvertem Sporting B
TRANSP:OPAQUE
END:VEVENT
BEGIN:VEVENT
DTSTART:20260228T200000Z
DTEND:20260228T213000Z
DTSTAMP:20260422T132800Z
UID:461749
CREATED:20260422T132800Z
DESCRIPTION:VDP4-A-0074: Wolvertem Sporting B - Grivok Grimbergen C\n\
	nLocatie: Wolvertem, Sportschuur\nPopulierenlaan 20, 1861 Wolvertem\n\
	nLaatste update: 22/04/2026 15:28\n\nDe wedstrijd info wordt minstens 
	1x per dag geupdate. Dus als de update datum niet recent is, dan kan h
	et zijn dat je niet de laatste informatie hebt. Dit ligt typisch aan i
	nstellingen op je telefoon.
LAST-MODIFIED:20260422T132800Z
LOCATION:Wolvertem, Sportschuur, Populierenlaan 20, 1861 Wolvertem Bel
	gie
SEQUENCE:0
STATUS:CONFIRMED
SUMMARY:VDP4-A-0074: Wolvertem Sporting B - Grivok Grimbergen C
TRANSP:OPAQUE
END:VEVENT
BEGIN:VEVENT
DTSTART:20260212T190000Z
DTEND:20260212T203000Z
DTSTAMP:20260422T132800Z
UID:461753
CREATED:20260422T132800Z
DESCRIPTION:VDP4-A-0078: Beruvoc Halle B - Wolvertem Sporting B\n\nLoc
	atie: Halle, GO! Technisch Atheneum \nKluisstraat 1, 1500 Halle\n\nLaa
	tste update: 22/04/2026 15:28\n\nDe wedstrijd info wordt minstens 1x p
	er dag geupdate. Dus als de update datum niet recent is, dan kan het z
	ijn dat je niet de laatste informatie hebt. Dit ligt typisch aan inste
	llingen op je telefoon.
LAST-MODIFIED:20260422T132800Z
LOCATION:Halle, GO! Technisch Atheneum , Kluisstraat 1, 1500 Halle Bel
	gie
SEQUENCE:0
STATUS:CONFIRMED
SUMMARY:VDP4-A-0078: Beruvoc Halle B - Wolvertem Sporting B
TRANSP:OPAQUE
END:VEVENT
BEGIN:VEVENT
DTSTART:20260214T200000Z
DTEND:20260214T213000Z
DTSTAMP:20260422T132800Z
UID:461759
CREATED:20260422T132800Z
DESCRIPTION:VDP4-A-0084: Wolvertem Sporting B - Volley Schepdaal VZW D
	\n\nLocatie: Wolvertem, Sportschuur\nPopulierenlaan 20, 1861 Wolvertem
	\n\nLaatste update: 22/04/2026 15:28\n\nDe wedstrijd info wordt minste
	ns 1x per dag geupdate. Dus als de update datum niet recent is, dan ka
	n het zijn dat je niet de laatste informatie hebt. Dit ligt typisch aa
	n instellingen op je telefoon.
LAST-MODIFIED:20260422T132800Z
LOCATION:Wolvertem, Sportschuur, Populierenlaan 20, 1861 Wolvertem Bel
	gie
SEQUENCE:0
STATUS:CONFIRMED
SUMMARY:VDP4-A-0084: Wolvertem Sporting B - Volley Schepdaal VZW D
TRANSP:OPAQUE
END:VEVENT
BEGIN:VEVENT
DTSTART:20260321T200000Z
DTEND:20260321T213000Z
DTSTAMP:20260422T132800Z
UID:461763
CREATED:20260422T132800Z
DESCRIPTION:VDP4-A-0088: Daatmet Liedekerke B - Wolvertem Sporting B\n
	\nLocatie: Liedekerke, Sporthal Heuvelkouter\nSportlaan 3, 1770 Liedek
	erke\n\nLaatste update: 22/04/2026 15:28\n\nDe wedstrijd info wordt mi
	nstens 1x per dag geupdate. Dus als de update datum niet recent is, da
	n kan het zijn dat je niet de laatste informatie hebt. Dit ligt typisc
	h aan instellingen op je telefoon.
LAST-MODIFIED:20260422T132800Z
LOCATION:Liedekerke, Sporthal Heuvelkouter, Sportlaan 3, 1770 Liedeker
	ke Belgie
SEQUENCE:0
STATUS:CONFIRMED
SUMMARY:VDP4-A-0088: Daatmet Liedekerke B - Wolvertem Sporting B
TRANSP:OPAQUE
END:VEVENT
BEGIN:VEVENT
DTSTART:20260307T150000Z
DTEND:20260307T163000Z
DTSTAMP:20260422T132800Z
UID:461766
CREATED:20260422T132800Z
DESCRIPTION:VDP4-A-0091: HZ 93 Hofstade-Zemst C - Wolvertem Sporting B
	\n\nLocatie: Zemst, Den Turfput\nBrusselsesteenweg 5, 1980 Zemst\n\nLa
	atste update: 22/04/2026 15:28\n\nDe wedstrijd info wordt minstens 1x 
	per dag geupdate. Dus als de update datum niet recent is, dan kan het 
	zijn dat je niet de laatste informatie hebt. Dit ligt typisch aan inst
	ellingen op je telefoon.
LAST-MODIFIED:20260422T132800Z
LOCATION:Zemst, Den Turfput, Brusselsesteenweg 5, 1980 Zemst Belgie
SEQUENCE:0
STATUS:CONFIRMED
SUMMARY:VDP4-A-0091: HZ 93 Hofstade-Zemst C - Wolvertem Sporting B
TRANSP:OPAQUE
END:VEVENT
BEGIN:VEVENT
DTSTART:20260314T160000Z
DTEND:20260314T173000Z
DTSTAMP:20260422T132800Z
UID:461773
CREATED:20260422T132800Z
DESCRIPTION:VDP4-A-0098: Wolvertem Sporting B - Sterko Kortenberg A\n\
	nLocatie: Wolvertem, Sportschuur\nPopulierenlaan 20, 1861 Wolvertem\n\
	nLaatste update: 22/04/2026 15:28\n\nDe wedstrijd info wordt minstens 
	1x per dag geupdate. Dus als de update datum niet recent is, dan kan h
	et zijn dat je niet de laatste informatie hebt. Dit ligt typisch aan i
	nstellingen op je telefoon.
LAST-MODIFIED:20260422T132800Z
LOCATION:Wolvertem, Sportschuur, Populierenlaan 20, 1861 Wolvertem Bel
	gie
SEQUENCE:0
STATUS:CONFIRMED
SUMMARY:VDP4-A-0098: Wolvertem Sporting B - Sterko Kortenberg A
TRANSP:OPAQUE
END:VEVENT
BEGIN:VEVENT
DTSTART:20251129T150000Z
DTEND:20251129T163000Z
DTSTAMP:20260422T132800Z
UID:461780
CREATED:20260422T132800Z
DESCRIPTION:VDP4-A-0105: VC Feniks Haacht D - Wolvertem Sporting B\n\n
	Locatie: Wespelaar, Sportcomplex Den Dijk\nDijkstraat 1, 3150 Haacht (
	Wespelaar)\n\nLaatste update: 22/04/2026 15:28\n\nDe wedstrijd info wo
	rdt minstens 1x per dag geupdate. Dus als de update datum niet recent 
	is, dan kan het zijn dat je niet de laatste informatie hebt. Dit ligt 
	typisch aan instellingen op je telefoon.
LAST-MODIFIED:20260422T132800Z
LOCATION:Wespelaar, Sportcomplex Den Dijk, Dijkstraat 1, 3150 Haacht (
	Wespelaar) Belgie
SEQUENCE:0
STATUS:CONFIRMED
SUMMARY:VDP4-A-0105: VC Feniks Haacht D - Wolvertem Sporting B
TRANSP:OPAQUE
END:VEVENT
END:VCALENDAR