BEGIN:VCALENDAR
PRODID:-//KDG Projects//Volleyscores.be//EN
VERSION:2.0
CALSCALE:GREGORIAN
METHOD:PUBLISH
NAME:Wolvertem Sporting A
X-WR-CALNAME:Wolvertem Sporting A
X-WR-RELCALID:t=96194@volleyadmin2.be
REFRESH-INTERVAL;VALUE=DURATION:PT4H
X-PUBLISHED-TTL:PT4H
BEGIN:VTIMEZONE
TZID:Europe/Brussels
X-LIC-LOCATION:Europe/Brussels
BEGIN:DAYLIGHT
TZOFFSETFROM:+0100
TZOFFSETTO:+0200
TZNAME:CEST
DTSTART:19700329T020000
RRULE:FREQ=YEARLY;BYMONTH=3;BYDAY=-1SU
END:DAYLIGHT
BEGIN:STANDARD
TZOFFSETFROM:+0200
TZOFFSETTO:+0100
TZNAME:CET
DTSTART:19701025T030000
RRULE:FREQ=YEARLY;BYMONTH=10;BYDAY=-1SU
END:STANDARD
END:VTIMEZONE
BEGIN:VEVENT
DTSTART:20250913T190000Z
DTEND:20250913T203000Z
DTSTAMP:20260422T144300Z
UID:452392
CREATED:20260422T144300Z
DESCRIPTION:NAT3H-C-0006: Wolvertem Sporting A - B.V.C. Balen A\n\nLoc
	atie: Wolvertem, Sportschuur\nPopulierenlaan 20 , 1861 Wolvertem\n\nLa
	atste update: 22/04/2026 16:43\n\nDe wedstrijd info wordt minstens 1x 
	per dag geupdate. Dus als de update datum niet recent is, dan kan het 
	zijn dat je niet de laatste informatie hebt. Dit ligt typisch aan inst
	ellingen op je telefoon.
LAST-MODIFIED:20260422T144300Z
LOCATION:Wolvertem, Sportschuur, Populierenlaan 20, 1861 Wolvertem Bel
	gie
SEQUENCE:0
STATUS:CONFIRMED
SUMMARY:NAT3H-C-0006: Wolvertem Sporting A - B.V.C. Balen A
TRANSP:OPAQUE
END:VEVENT
BEGIN:VEVENT
DTSTART:20250920T190000Z
DTEND:20250920T203000Z
DTSTAMP:20260422T144300Z
UID:452397
CREATED:20260422T144300Z
DESCRIPTION:NAT3H-C-0011: Wolvertem Sporting A - Gimm-E Waasland Kruib
	eke A\n\nLocatie: Wolvertem, Sportschuur\nPopulierenlaan 20 , 1861 Wol
	vertem\n\nLaatste update: 22/04/2026 16:43\n\nDe wedstrijd info wordt 
	minstens 1x per dag geupdate. Dus als de update datum niet recent is, 
	dan kan het zijn dat je niet de laatste informatie hebt. Dit ligt typi
	sch aan instellingen op je telefoon.
LAST-MODIFIED:20260422T144300Z
LOCATION:Wolvertem, Sportschuur, Populierenlaan 20, 1861 Wolvertem Bel
	gie
SEQUENCE:0
STATUS:CONFIRMED
SUMMARY:NAT3H-C-0011: Wolvertem Sporting A - Gimm-E Waasland Kruibeke A
TRANSP:OPAQUE
END:VEVENT
BEGIN:VEVENT
DTSTART:20251213T200000Z
DTEND:20251213T213000Z
DTSTAMP:20260422T144300Z
UID:452404
CREATED:20260422T144300Z
DESCRIPTION:NAT3H-C-0018: Wolvertem Sporting A - Kreg Rotselaar A\n\nL
	ocatie: Wolvertem, Sportschuur\nPopulierenlaan 20 , 1861 Wolvertem\n\n
	Laatste update: 22/04/2026 16:43\n\nDe wedstrijd info wordt minstens 1
	x per dag geupdate. Dus als de update datum niet recent is, dan kan he
	t zijn dat je niet de laatste informatie hebt. Dit ligt typisch aan in
	stellingen op je telefoon.
LAST-MODIFIED:20260422T144300Z
LOCATION:Wolvertem, Sportschuur, Populierenlaan 20, 1861 Wolvertem Bel
	gie
SEQUENCE:0
STATUS:CONFIRMED
SUMMARY:NAT3H-C-0018: Wolvertem Sporting A - Kreg Rotselaar A
TRANSP:OPAQUE
END:VEVENT
BEGIN:VEVENT
DTSTART:20251011T183000Z
DTEND:20251011T200000Z
DTSTAMP:20260422T144300Z
UID:452405
CREATED:20260422T144300Z
DESCRIPTION:NAT3H-C-0019: Golazo Averbode A - Wolvertem Sporting A\n\n
	Locatie: Averbode, Gemeentelijke Sporthal\nMolenvijver 9 , 3271 Averbo
	de\n\nLaatste update: 22/04/2026 16:43\n\nDe wedstrijd info wordt mins
	tens 1x per dag geupdate. Dus als de update datum niet recent is, dan 
	kan het zijn dat je niet de laatste informatie hebt. Dit ligt typisch 
	aan instellingen op je telefoon.
LAST-MODIFIED:20260422T144300Z
LOCATION:Averbode, Gemeentelijke Sporthal, Molenvijver 9, 3271 Averbod
	e Belgie
SEQUENCE:0
STATUS:CONFIRMED
SUMMARY:NAT3H-C-0019: Golazo Averbode A - Wolvertem Sporting A
TRANSP:OPAQUE
END:VEVENT
BEGIN:VEVENT
DTSTART:20251018T190000Z
DTEND:20251018T203000Z
DTSTAMP:20260422T144300Z
UID:452416
CREATED:20260422T144300Z
DESCRIPTION:NAT3H-C-0030: Wolvertem Sporting A - VBT Machelen A\n\nLoc
	atie: Wolvertem, Sportschuur\nPopulierenlaan 20 , 1861 Wolvertem\n\nLa
	atste update: 22/04/2026 16:43\n\nDe wedstrijd info wordt minstens 1x 
	per dag geupdate. Dus als de update datum niet recent is, dan kan het 
	zijn dat je niet de laatste informatie hebt. Dit ligt typisch aan inst
	ellingen op je telefoon.
LAST-MODIFIED:20260422T144300Z
LOCATION:Wolvertem, Sportschuur, Populierenlaan 20, 1861 Wolvertem Bel
	gie
SEQUENCE:0
STATUS:CONFIRMED
SUMMARY:NAT3H-C-0030: Wolvertem Sporting A - VBT Machelen A
TRANSP:OPAQUE
END:VEVENT
BEGIN:VEVENT
DTSTART:20251109T170000Z
DTEND:20251109T183000Z
DTSTAMP:20260422T144300Z
UID:452419
CREATED:20260422T144300Z
DESCRIPTION:NAT3H-C-0033: Mendo Booischot C - Wolvertem Sporting A\n\n
	Locatie: Booischot, Sporthal De Lichten \nKloosterveldstraat 7 , 2221 
	Booischot\n\nLaatste update: 22/04/2026 16:43\n\nDe wedstrijd info wor
	dt minstens 1x per dag geupdate. Dus als de update datum niet recent i
	s, dan kan het zijn dat je niet de laatste informatie hebt. Dit ligt t
	ypisch aan instellingen op je telefoon.
LAST-MODIFIED:20260422T144300Z
LOCATION:Booischot, Sporthal De Lichten , Kloosterveldstraat 7, 2221 B
	ooischot Belgie
SEQUENCE:0
STATUS:CONFIRMED
SUMMARY:NAT3H-C-0033: Mendo Booischot C - Wolvertem Sporting A
TRANSP:OPAQUE
END:VEVENT
BEGIN:VEVENT
DTSTART:20251115T200000Z
DTEND:20251115T213000Z
DTSTAMP:20260422T144300Z
UID:452427
CREATED:20260422T144300Z
DESCRIPTION:NAT3H-C-0041: Wolvertem Sporting A - Mendo Booischot B\n\n
	Locatie: Wolvertem, Sportschuur\nPopulierenlaan 20 , 1861 Wolvertem\n\
	nLaatste update: 22/04/2026 16:43\n\nDe wedstrijd info wordt minstens 
	1x per dag geupdate. Dus als de update datum niet recent is, dan kan h
	et zijn dat je niet de laatste informatie hebt. Dit ligt typisch aan i
	nstellingen op je telefoon.
LAST-MODIFIED:20260422T144300Z
LOCATION:Wolvertem, Sportschuur, Populierenlaan 20, 1861 Wolvertem Bel
	gie
SEQUENCE:0
STATUS:CONFIRMED
SUMMARY:NAT3H-C-0041: Wolvertem Sporting A - Mendo Booischot B
TRANSP:OPAQUE
END:VEVENT
BEGIN:VEVENT
DTSTART:20251122T160000Z
DTEND:20251122T173000Z
DTSTAMP:20260422T144300Z
UID:452433
CREATED:20260422T144300Z
DESCRIPTION:NAT3H-C-0047: Servantes Volley Noorderkempen B - Wolvertem
	 Sporting A\n\nLocatie: Vosselaar, Sporthal Diepvenneke \nDiepvenneke 
	43 , 2350 Vosselaar\n\nLaatste update: 22/04/2026 16:43\n\nDe wedstrij
	d info wordt minstens 1x per dag geupdate. Dus als de update datum nie
	t recent is, dan kan het zijn dat je niet de laatste informatie hebt. 
	Dit ligt typisch aan instellingen op je telefoon.
LAST-MODIFIED:20260422T144300Z
LOCATION:Vosselaar, Sporthal Diepvenneke , Diepvenneke 43, 2350 Vossel
	aar Belgie
SEQUENCE:0
STATUS:CONFIRMED
SUMMARY:NAT3H-C-0047: Servantes Volley Noorderkempen B - Wolvertem Sporting A
TRANSP:OPAQUE
END:VEVENT
BEGIN:VEVENT
DTSTART:20251129T193000Z
DTEND:20251129T210000Z
DTSTAMP:20260422T144300Z
UID:452439
CREATED:20260422T144300Z
DESCRIPTION:NAT3H-C-0053: Arvoc A - Wolvertem Sporting A\n\nLocatie: A
	rendonk, Sporthal Okido \nKerkstraat  9, 2370 Arendonk\n\nLaatste upda
	te: 22/04/2026 16:43\n\nDe wedstrijd info wordt minstens 1x per dag ge
	update. Dus als de update datum niet recent is, dan kan het zijn dat j
	e niet de laatste informatie hebt. Dit ligt typisch aan instellingen o
	p je telefoon.
LAST-MODIFIED:20260422T144300Z
LOCATION:Arendonk, Sporthal Okido , Kerkstraat  9, 2370 Arendonk Belgi
	e
SEQUENCE:0
STATUS:CONFIRMED
SUMMARY:NAT3H-C-0053: Arvoc A - Wolvertem Sporting A
TRANSP:OPAQUE
END:VEVENT
BEGIN:VEVENT
DTSTART:20251220T200000Z
DTEND:20251220T213000Z
DTSTAMP:20260422T144300Z
UID:452445
CREATED:20260422T144300Z
DESCRIPTION:NAT3H-C-0059: Wolvertem Sporting A - Hellvoc Hemiksem-Sche
	lle B\n\nLocatie: Wolvertem, Sportschuur\nPopulierenlaan 20 , 1861 Wol
	vertem\n\nLaatste update: 22/04/2026 16:43\n\nDe wedstrijd info wordt 
	minstens 1x per dag geupdate. Dus als de update datum niet recent is, 
	dan kan het zijn dat je niet de laatste informatie hebt. Dit ligt typi
	sch aan instellingen op je telefoon.
LAST-MODIFIED:20260422T144300Z
LOCATION:Wolvertem, Sportschuur, Populierenlaan 20, 1861 Wolvertem Bel
	gie
SEQUENCE:0
STATUS:CONFIRMED
SUMMARY:NAT3H-C-0059: Wolvertem Sporting A - Hellvoc Hemiksem-Schelle B
TRANSP:OPAQUE
END:VEVENT
BEGIN:VEVENT
DTSTART:20250927T190000Z
DTEND:20250927T203000Z
DTSTAMP:20260422T144300Z
UID:452451
CREATED:20260422T144300Z
DESCRIPTION:NAT3H-C-0065: Wolvertem Sporting A - Thuismakers Brabo Ant
	werp VT B\n\nLocatie: Wolvertem, Sportschuur\nPopulierenlaan 20 , 1861
	 Wolvertem\n\nLaatste update: 22/04/2026 16:43\n\nDe wedstrijd info wo
	rdt minstens 1x per dag geupdate. Dus als de update datum niet recent 
	is, dan kan het zijn dat je niet de laatste informatie hebt. Dit ligt 
	typisch aan instellingen op je telefoon.
LAST-MODIFIED:20260422T144300Z
LOCATION:Wolvertem, Sportschuur, Populierenlaan 20, 1861 Wolvertem Bel
	gie
SEQUENCE:0
STATUS:CONFIRMED
SUMMARY:NAT3H-C-0065: Wolvertem Sporting A - Thuismakers Brabo Antwerp VT B
TRANSP:OPAQUE
END:VEVENT
BEGIN:VEVENT
DTSTART:20260110T200000Z
DTEND:20260110T213000Z
DTSTAMP:20260422T144300Z
UID:452458
CREATED:20260422T144300Z
DESCRIPTION:NAT3H-C-0072: B.V.C. Balen A - Wolvertem Sporting A\n\nLoc
	atie: Balen, Sportcomplex Bleukens \nHoolsterberg  36, 2490 Balen\n\nL
	aatste update: 22/04/2026 16:43\n\nDe wedstrijd info wordt minstens 1x
	 per dag geupdate. Dus als de update datum niet recent is, dan kan het
	 zijn dat je niet de laatste informatie hebt. Dit ligt typisch aan ins
	tellingen op je telefoon.
LAST-MODIFIED:20260422T144300Z
LOCATION:Balen, Sportcomplex Bleukens , Hoolsterberg  36, 2490 Balen B
	elgie
SEQUENCE:0
STATUS:CONFIRMED
SUMMARY:NAT3H-C-0072: B.V.C. Balen A - Wolvertem Sporting A
TRANSP:OPAQUE
END:VEVENT
BEGIN:VEVENT
DTSTART:20260117T193000Z
DTEND:20260117T210000Z
DTSTAMP:20260422T144300Z
UID:452464
CREATED:20260422T144300Z
DESCRIPTION:NAT3H-C-0078: Gimm-E Waasland Kruibeke A - Wolvertem Sport
	ing A\n\nLocatie: Bazel, Sporthal De Dulpop\nBeekdam 2, 9150 Bazel\n\n
	Laatste update: 22/04/2026 16:43\n\nDe wedstrijd info wordt minstens 1
	x per dag geupdate. Dus als de update datum niet recent is, dan kan he
	t zijn dat je niet de laatste informatie hebt. Dit ligt typisch aan in
	stellingen op je telefoon.
LAST-MODIFIED:20260422T144300Z
LOCATION:Bazel, Sporthal De Dulpop, Beekdam 2, 9150 Bazel Belgie
SEQUENCE:0
STATUS:CONFIRMED
SUMMARY:NAT3H-C-0078: Gimm-E Waasland Kruibeke A - Wolvertem Sporting A
TRANSP:OPAQUE
END:VEVENT
BEGIN:VEVENT
DTSTART:20260221T183000Z
DTEND:20260221T200000Z
DTSTAMP:20260422T144300Z
UID:452466
CREATED:20260422T144300Z
DESCRIPTION:NAT3H-C-0080: Kreg Rotselaar A - Wolvertem Sporting A\n\nL
	ocatie: Rotselaar, Sportoase De Meander\nVakenstraat 18, 3110 Rotselaa
	r\n\nLaatste update: 22/04/2026 16:43\n\nDe wedstrijd info wordt minst
	ens 1x per dag geupdate. Dus als de update datum niet recent is, dan k
	an het zijn dat je niet de laatste informatie hebt. Dit ligt typisch a
	an instellingen op je telefoon.
LAST-MODIFIED:20260422T144300Z
LOCATION:Rotselaar, Sportoase De Meander, Vakenstraat 18, 3110 Rotsela
	ar Belgie
SEQUENCE:0
STATUS:CONFIRMED
SUMMARY:NAT3H-C-0080: Kreg Rotselaar A - Wolvertem Sporting A
TRANSP:OPAQUE
END:VEVENT
BEGIN:VEVENT
DTSTART:20260207T200000Z
DTEND:20260207T213000Z
DTSTAMP:20260422T144300Z
UID:452476
CREATED:20260422T144300Z
DESCRIPTION:NAT3H-C-0090: Wolvertem Sporting A - Golazo Averbode A\n\n
	Locatie: Wolvertem, Sportschuur\nPopulierenlaan 20 , 1861 Wolvertem\n\
	nLaatste update: 22/04/2026 16:43\n\nDe wedstrijd info wordt minstens 
	1x per dag geupdate. Dus als de update datum niet recent is, dan kan h
	et zijn dat je niet de laatste informatie hebt. Dit ligt typisch aan i
	nstellingen op je telefoon.
LAST-MODIFIED:20260422T144300Z
LOCATION:Wolvertem, Sportschuur, Populierenlaan 20, 1861 Wolvertem Bel
	gie
SEQUENCE:0
STATUS:CONFIRMED
SUMMARY:NAT3H-C-0090: Wolvertem Sporting A - Golazo Averbode A
TRANSP:OPAQUE
END:VEVENT
BEGIN:VEVENT
DTSTART:20260228T193000Z
DTEND:20260228T210000Z
DTSTAMP:20260422T144300Z
UID:452480
CREATED:20260422T144300Z
DESCRIPTION:NAT3H-C-0094: VBT Machelen A - Wolvertem Sporting A\n\nLoc
	atie: Machelen, Sporthal Bosveld\nHeirbaan , 1830 Machelen (Vl.Br.)\n\
	nLaatste update: 22/04/2026 16:43\n\nDe wedstrijd info wordt minstens 
	1x per dag geupdate. Dus als de update datum niet recent is, dan kan h
	et zijn dat je niet de laatste informatie hebt. Dit ligt typisch aan i
	nstellingen op je telefoon.
LAST-MODIFIED:20260422T144300Z
LOCATION:Machelen, Sporthal Bosveld, Heirbaan, 1830 Machelen (Vl.Br.) 
	Belgie
SEQUENCE:0
STATUS:CONFIRMED
SUMMARY:NAT3H-C-0094: VBT Machelen A - Wolvertem Sporting A
TRANSP:OPAQUE
END:VEVENT
BEGIN:VEVENT
DTSTART:20260307T200000Z
DTEND:20260307T213000Z
DTSTAMP:20260422T144300Z
UID:452488
CREATED:20260422T144300Z
DESCRIPTION:NAT3H-C-0102: Wolvertem Sporting A - Mendo Booischot C\n\n
	Locatie: Wolvertem, Sportschuur\nPopulierenlaan 20 , 1861 Wolvertem\n\
	nLaatste update: 22/04/2026 16:43\n\nDe wedstrijd info wordt minstens 
	1x per dag geupdate. Dus als de update datum niet recent is, dan kan h
	et zijn dat je niet de laatste informatie hebt. Dit ligt typisch aan i
	nstellingen op je telefoon.
LAST-MODIFIED:20260422T144300Z
LOCATION:Wolvertem, Sportschuur, Populierenlaan 20, 1861 Wolvertem Bel
	gie
SEQUENCE:0
STATUS:CONFIRMED
SUMMARY:NAT3H-C-0102: Wolvertem Sporting A - Mendo Booischot C
TRANSP:OPAQUE
END:VEVENT
BEGIN:VEVENT
DTSTART:20260315T170000Z
DTEND:20260315T183000Z
DTSTAMP:20260422T144300Z
UID:452493
CREATED:20260422T144300Z
DESCRIPTION:NAT3H-C-0107: Mendo Booischot B - Wolvertem Sporting A\n\n
	Locatie: Booischot, Sporthal De Lichten \nKloosterveldstraat 7 , 2221 
	Booischot\n\nLaatste update: 22/04/2026 16:43\n\nDe wedstrijd info wor
	dt minstens 1x per dag geupdate. Dus als de update datum niet recent i
	s, dan kan het zijn dat je niet de laatste informatie hebt. Dit ligt t
	ypisch aan instellingen op je telefoon.
LAST-MODIFIED:20260422T144300Z
LOCATION:Booischot, Sporthal De Lichten , Kloosterveldstraat 7, 2221 B
	ooischot Belgie
SEQUENCE:0
STATUS:CONFIRMED
SUMMARY:NAT3H-C-0107: Mendo Booischot B - Wolvertem Sporting A
TRANSP:OPAQUE
END:VEVENT
BEGIN:VEVENT
DTSTART:20260214T200000Z
DTEND:20260214T213000Z
DTSTAMP:20260422T144300Z
UID:452497
CREATED:20260422T144300Z
DESCRIPTION:NAT3H-C-0111: Wolvertem Sporting A - Servantes Volley Noor
	derkempen B\n\nLocatie: Wolvertem, Sportschuur\nPopulierenlaan 20 , 18
	61 Wolvertem\n\nLaatste update: 22/04/2026 16:43\n\nDe wedstrijd info 
	wordt minstens 1x per dag geupdate. Dus als de update datum niet recen
	t is, dan kan het zijn dat je niet de laatste informatie hebt. Dit lig
	t typisch aan instellingen op je telefoon.
LAST-MODIFIED:20260422T144300Z
LOCATION:Wolvertem, Sportschuur, Populierenlaan 20, 1861 Wolvertem Bel
	gie
SEQUENCE:0
STATUS:CONFIRMED
SUMMARY:NAT3H-C-0111: Wolvertem Sporting A - Servantes Volley Noorderkempen B
TRANSP:OPAQUE
END:VEVENT
BEGIN:VEVENT
DTSTART:20260328T200000Z
DTEND:20260328T213000Z
DTSTAMP:20260422T144300Z
UID:452505
CREATED:20260422T144300Z
DESCRIPTION:NAT3H-C-0119: Wolvertem Sporting A - Arvoc A\n\nLocatie: W
	olvertem, Sportschuur\nPopulierenlaan 20 , 1861 Wolvertem\n\nLaatste u
	pdate: 22/04/2026 16:43\n\nDe wedstrijd info wordt minstens 1x per dag
	 geupdate. Dus als de update datum niet recent is, dan kan het zijn da
	t je niet de laatste informatie hebt. Dit ligt typisch aan instellinge
	n op je telefoon.
LAST-MODIFIED:20260422T144300Z
LOCATION:Wolvertem, Sportschuur, Populierenlaan 20, 1861 Wolvertem Bel
	gie
SEQUENCE:0
STATUS:CONFIRMED
SUMMARY:NAT3H-C-0119: Wolvertem Sporting A - Arvoc A
TRANSP:OPAQUE
END:VEVENT
BEGIN:VEVENT
DTSTART:20260418T183000Z
DTEND:20260418T200000Z
DTSTAMP:20260422T144300Z
UID:452511
CREATED:20260422T144300Z
DESCRIPTION:NAT3H-C-0125: Hellvoc Hemiksem-Schelle B - Wolvertem Sport
	ing A\n\nLocatie: Hemiksem, Gemeentelijk Sportcentrum \nAtletiekstraat
	 1 , 2620 Hemiksem\n\nLaatste update: 22/04/2026 16:43\n\nDe wedstrijd
	 info wordt minstens 1x per dag geupdate. Dus als de update datum niet
	 recent is, dan kan het zijn dat je niet de laatste informatie hebt. D
	it ligt typisch aan instellingen op je telefoon.
LAST-MODIFIED:20260422T144300Z
LOCATION:Hemiksem, Gemeentelijk Sportcentrum , Atletiekstraat 1, 2620 
	Hemiksem Belgie
SEQUENCE:0
STATUS:CONFIRMED
SUMMARY:NAT3H-C-0125: Hellvoc Hemiksem-Schelle B - Wolvertem Sporting A
TRANSP:OPAQUE
END:VEVENT
BEGIN:VEVENT
DTSTART:20260426T170000Z
DTEND:20260426T183000Z
DTSTAMP:20260422T144300Z
UID:452513
CREATED:20260422T144300Z
DESCRIPTION:NAT3H-C-0127: Thuismakers Brabo Antwerp VT B - Wolvertem S
	porting A\n\nLocatie: Deurne, Sporthal Arena \nArenaplein 1, 2100 Deur
	ne\n\nLaatste update: 22/04/2026 16:43\n\nDe wedstrijd info wordt mins
	tens 1x per dag geupdate. Dus als de update datum niet recent is, dan 
	kan het zijn dat je niet de laatste informatie hebt. Dit ligt typisch 
	aan instellingen op je telefoon.
LAST-MODIFIED:20260422T144300Z
LOCATION:Deurne, Sporthal Arena , Arenaplein 1, 2100 Deurne Belgie
SEQUENCE:0
STATUS:CONFIRMED
SUMMARY:NAT3H-C-0127: Thuismakers Brabo Antwerp VT B - Wolvertem Sporting A
TRANSP:OPAQUE
END:VEVENT
END:VCALENDAR