BEGIN:VCALENDAR
PRODID:-//KDG Projects//Volleyscores.be//EN
VERSION:2.0
CALSCALE:GREGORIAN
METHOD:PUBLISH
NAME:Wolvertem Sporting B +
X-WR-CALNAME:Wolvertem Sporting B +
X-WR-RELCALID:t=95911@volleyadmin2.be
REFRESH-INTERVAL;VALUE=DURATION:PT4H
X-PUBLISHED-TTL:PT4H
BEGIN:VTIMEZONE
TZID:Europe/Brussels
X-LIC-LOCATION:Europe/Brussels
BEGIN:DAYLIGHT
TZOFFSETFROM:+0100
TZOFFSETTO:+0200
TZNAME:CEST
DTSTART:19700329T020000
RRULE:FREQ=YEARLY;BYMONTH=3;BYDAY=-1SU
END:DAYLIGHT
BEGIN:STANDARD
TZOFFSETFROM:+0200
TZOFFSETTO:+0100
TZNAME:CET
DTSTART:19701025T030000
RRULE:FREQ=YEARLY;BYMONTH=10;BYDAY=-1SU
END:STANDARD
END:VTIMEZONE
BEGIN:VEVENT
DTSTART:20250913T113000Z
DTEND:20250913T130000Z
DTSTAMP:20260422T132600Z
UID:463826
CREATED:20260422T132600Z
DESCRIPTION:VMU13N2R1-G-0001: Wolvertem Sporting B + - Grivok Grimberg
	en A\n\nLocatie: Wolvertem, Sportschuur\nPopulierenlaan 20, 1861 Wolve
	rtem\n\nLaatste update: 22/04/2026 15:26\n\nDe wedstrijd info wordt mi
	nstens 1x per dag geupdate. Dus als de update datum niet recent is, da
	n kan het zijn dat je niet de laatste informatie hebt. Dit ligt typisc
	h aan instellingen op je telefoon.
LAST-MODIFIED:20260422T132600Z
LOCATION:Wolvertem, Sportschuur, Populierenlaan 20, 1861 Wolvertem Bel
	gie
SEQUENCE:0
STATUS:CONFIRMED
SUMMARY:VMU13N2R1-G-0001: Wolvertem Sporting B + - Grivok Grimbergen A
TRANSP:OPAQUE
END:VEVENT
BEGIN:VEVENT
DTSTART:20250920T113000Z
DTEND:20250920T130000Z
DTSTAMP:20260422T132600Z
UID:463829
CREATED:20260422T132600Z
DESCRIPTION:VMU13N2R1-G-0004: Wolvertem Sporting B + - Velvoc Veltem-B
	eisem B +\n\nLocatie: Wolvertem, Sportschuur\nPopulierenlaan 20, 1861 
	Wolvertem\n\nLaatste update: 22/04/2026 15:26\n\nDe wedstrijd info wor
	dt minstens 1x per dag geupdate. Dus als de update datum niet recent i
	s, dan kan het zijn dat je niet de laatste informatie hebt. Dit ligt t
	ypisch aan instellingen op je telefoon.
LAST-MODIFIED:20260422T132600Z
LOCATION:Wolvertem, Sportschuur, Populierenlaan 20, 1861 Wolvertem Bel
	gie
SEQUENCE:0
STATUS:CONFIRMED
SUMMARY:VMU13N2R1-G-0004: Wolvertem Sporting B + - Velvoc Veltem-Beisem B +
TRANSP:OPAQUE
END:VEVENT
BEGIN:VEVENT
DTSTART:20250927T080000Z
DTEND:20250927T093000Z
DTSTAMP:20260422T132600Z
UID:463834
CREATED:20260422T132600Z
DESCRIPTION:VMU13N2R1-G-0009: Smash Neerijse B - Wolvertem Sporting B 
	+\n\nLocatie: Huldenberg, De Kronkel\nGemeenteplein 2, 3040 Huldenberg
	\n\nLaatste update: 22/04/2026 15:26\n\nDe wedstrijd info wordt minste
	ns 1x per dag geupdate. Dus als de update datum niet recent is, dan ka
	n het zijn dat je niet de laatste informatie hebt. Dit ligt typisch aa
	n instellingen op je telefoon.
LAST-MODIFIED:20260422T132600Z
LOCATION:Huldenberg, De Kronkel, Gemeenteplein 2, 3040 Huldenberg Belg
	ie
SEQUENCE:0
STATUS:CONFIRMED
SUMMARY:VMU13N2R1-G-0009: Smash Neerijse B - Wolvertem Sporting B +
TRANSP:OPAQUE
END:VEVENT
BEGIN:VEVENT
DTSTART:20251004T080000Z
DTEND:20251004T093000Z
DTSTAMP:20260422T132600Z
UID:463837
CREATED:20260422T132600Z
DESCRIPTION:VMU13N2R1-G-0012: Volley Thor Tervuren - Wolvertem Sportin
	g B +\n\nLocatie: Tervuren, Sportcentrum Diependal\nLindenboomstraat 3
	0, 3080 Tervuren\n\nLaatste update: 22/04/2026 15:26\n\nDe wedstrijd i
	nfo wordt minstens 1x per dag geupdate. Dus als de update datum niet r
	ecent is, dan kan het zijn dat je niet de laatste informatie hebt. Dit
	 ligt typisch aan instellingen op je telefoon.
LAST-MODIFIED:20260422T132600Z
LOCATION:Tervuren, Sportcentrum Diependal, Lindenboomstraat 30, 3080 T
	ervuren Belgie
SEQUENCE:0
STATUS:CONFIRMED
SUMMARY:VMU13N2R1-G-0012: Volley Thor Tervuren - Wolvertem Sporting B +
TRANSP:OPAQUE
END:VEVENT
BEGIN:VEVENT
DTSTART:20251011T150000Z
DTEND:20251011T163000Z
DTSTAMP:20260422T132600Z
UID:463838
CREATED:20260422T132600Z
DESCRIPTION:VMU13N2R1-G-0013: Wolvertem Sporting B + - VBT Machelen C 
	+\n\nLocatie: Wolvertem, Sportschuur\nPopulierenlaan 20, 1861 Wolverte
	m\n\nLaatste update: 22/04/2026 15:26\n\nDe wedstrijd info wordt minst
	ens 1x per dag geupdate. Dus als de update datum niet recent is, dan k
	an het zijn dat je niet de laatste informatie hebt. Dit ligt typisch a
	an instellingen op je telefoon.
LAST-MODIFIED:20260422T132600Z
LOCATION:Wolvertem, Sportschuur, Populierenlaan 20, 1861 Wolvertem Bel
	gie
SEQUENCE:0
STATUS:CONFIRMED
SUMMARY:VMU13N2R1-G-0013: Wolvertem Sporting B + - VBT Machelen C +
TRANSP:OPAQUE
END:VEVENT
BEGIN:VEVENT
DTSTART:20251025T113000Z
DTEND:20251025T130000Z
DTSTAMP:20260422T132600Z
UID:463841
CREATED:20260422T132600Z
DESCRIPTION:VMU13N2R1-G-0016: Grivok Grimbergen A - Wolvertem Sporting
	 B +\n\nLocatie: Grimbergen, Gemeentelijke Sporthal Prinsenbos\nPastoo
	r Woutersstraat , 1850 Grimbergen\n\nLaatste update: 22/04/2026 15:26\
	n\nDe wedstrijd info wordt minstens 1x per dag geupdate. Dus als de up
	date datum niet recent is, dan kan het zijn dat je niet de laatste inf
	ormatie hebt. Dit ligt typisch aan instellingen op je telefoon.
LAST-MODIFIED:20260422T132600Z
LOCATION:Grimbergen, Gemeentelijke Sporthal Prinsenbos, Pastoor Wouter
	sstraat, 1850 Grimbergen Belgie
SEQUENCE:0
STATUS:CONFIRMED
SUMMARY:VMU13N2R1-G-0016: Grivok Grimbergen A - Wolvertem Sporting B +
TRANSP:OPAQUE
END:VEVENT
BEGIN:VEVENT
DTSTART:20251108T123000Z
DTEND:20251108T140000Z
DTSTAMP:20260422T132600Z
UID:463844
CREATED:20260422T132600Z
DESCRIPTION:VMU13N2R1-G-0019: Velvoc Veltem-Beisem B + - Wolvertem Spo
	rting B +\n\nLocatie: Veltem-Beisem, Sportcentrum Ivo Van Damme \nOver
	straat 21, 3020 Veltem-Beisem\n\nLaatste update: 22/04/2026 15:26\n\nD
	e wedstrijd info wordt minstens 1x per dag geupdate. Dus als de update
	 datum niet recent is, dan kan het zijn dat je niet de laatste informa
	tie hebt. Dit ligt typisch aan instellingen op je telefoon.
LAST-MODIFIED:20260422T132600Z
LOCATION:Veltem-Beisem, Sportcentrum Ivo Van Damme , Overstraat 21, 30
	20 Veltem-Beisem Belgie
SEQUENCE:0
STATUS:CONFIRMED
SUMMARY:VMU13N2R1-G-0019: Velvoc Veltem-Beisem B + - Wolvertem Sporting B +
TRANSP:OPAQUE
END:VEVENT
BEGIN:VEVENT
DTSTART:20251115T123000Z
DTEND:20251115T140000Z
DTSTAMP:20260422T132600Z
UID:463849
CREATED:20260422T132600Z
DESCRIPTION:VMU13N2R1-G-0024: Wolvertem Sporting B + - Smash Neerijse 
	B\n\nLocatie: Wolvertem, Sportschuur\nPopulierenlaan 20, 1861 Wolverte
	m\n\nLaatste update: 22/04/2026 15:26\n\nDe wedstrijd info wordt minst
	ens 1x per dag geupdate. Dus als de update datum niet recent is, dan k
	an het zijn dat je niet de laatste informatie hebt. Dit ligt typisch a
	an instellingen op je telefoon.
LAST-MODIFIED:20260422T132600Z
LOCATION:Wolvertem, Sportschuur, Populierenlaan 20, 1861 Wolvertem Bel
	gie
SEQUENCE:0
STATUS:CONFIRMED
SUMMARY:VMU13N2R1-G-0024: Wolvertem Sporting B + - Smash Neerijse B
TRANSP:OPAQUE
END:VEVENT
BEGIN:VEVENT
DTSTART:20251122T123000Z
DTEND:20251122T140000Z
DTSTAMP:20260422T132600Z
UID:463852
CREATED:20260422T132600Z
DESCRIPTION:VMU13N2R1-G-0027: Wolvertem Sporting B + - Volley Thor Ter
	vuren\n\nLocatie: Wolvertem, Sportschuur\nPopulierenlaan 20, 1861 Wolv
	ertem\n\nLaatste update: 22/04/2026 15:26\n\nDe wedstrijd info wordt m
	instens 1x per dag geupdate. Dus als de update datum niet recent is, d
	an kan het zijn dat je niet de laatste informatie hebt. Dit ligt typis
	ch aan instellingen op je telefoon.
LAST-MODIFIED:20260422T132600Z
LOCATION:Wolvertem, Sportschuur, Populierenlaan 20, 1861 Wolvertem Bel
	gie
SEQUENCE:0
STATUS:CONFIRMED
SUMMARY:VMU13N2R1-G-0027: Wolvertem Sporting B + - Volley Thor Tervuren
TRANSP:OPAQUE
END:VEVENT
BEGIN:VEVENT
DTSTART:20251129T150000Z
DTEND:20251129T163000Z
DTSTAMP:20260422T132600Z
UID:463853
CREATED:20260422T132600Z
DESCRIPTION:VMU13N2R1-G-0028: VBT Machelen C + - Wolvertem Sporting B 
	+\n\nLocatie: Machelen, Sporthal Bosveld\nHeirbaan 10, 1830 Machelen\n
	\nLaatste update: 22/04/2026 15:26\n\nDe wedstrijd info wordt minstens
	 1x per dag geupdate. Dus als de update datum niet recent is, dan kan 
	het zijn dat je niet de laatste informatie hebt. Dit ligt typisch aan 
	instellingen op je telefoon.
LAST-MODIFIED:20260422T132600Z
LOCATION:Machelen, Sporthal Bosveld, Heirbaan 10, 1830 Machelen Belgie
SEQUENCE:0
STATUS:CONFIRMED
SUMMARY:VMU13N2R1-G-0028: VBT Machelen C + - Wolvertem Sporting B +
TRANSP:OPAQUE
END:VEVENT
END:VCALENDAR