BEGIN:VCALENDAR
PRODID:-//KDG Projects//Volleyscores.be//EN
VERSION:2.0
CALSCALE:GREGORIAN
METHOD:PUBLISH
NAME:Wolvertem Sporting A
X-WR-CALNAME:Wolvertem Sporting A
X-WR-RELCALID:t=95905@volleyadmin2.be
REFRESH-INTERVAL;VALUE=DURATION:PT4H
X-PUBLISHED-TTL:PT4H
BEGIN:VTIMEZONE
TZID:Europe/Brussels
X-LIC-LOCATION:Europe/Brussels
BEGIN:DAYLIGHT
TZOFFSETFROM:+0100
TZOFFSETTO:+0200
TZNAME:CEST
DTSTART:19700329T020000
RRULE:FREQ=YEARLY;BYMONTH=3;BYDAY=-1SU
END:DAYLIGHT
BEGIN:STANDARD
TZOFFSETFROM:+0200
TZOFFSETTO:+0100
TZNAME:CET
DTSTART:19701025T030000
RRULE:FREQ=YEARLY;BYMONTH=10;BYDAY=-1SU
END:STANDARD
END:VTIMEZONE
BEGIN:VEVENT
DTSTART:20250913T150000Z
DTEND:20250913T163000Z
DTSTAMP:20260422T132900Z
UID:463857
CREATED:20260422T132900Z
DESCRIPTION:VMU13N2R1-F-0002: VC Knodde Meise + - Wolvertem Sporting A
	\n\nLocatie: Meise, Sporthal \nAnn Christyplein (parkeerplaats Nieuwel
	aan 98) 4, 1860 Meise\n\nLaatste update: 22/04/2026 15:29\n\nDe wedstr
	ijd info wordt minstens 1x per dag geupdate. Dus als de update datum n
	iet recent is, dan kan het zijn dat je niet de laatste informatie hebt
	. Dit ligt typisch aan instellingen op je telefoon.
LAST-MODIFIED:20260422T132900Z
LOCATION:Meise, Sporthal , Ann Christyplein (parkeerplaats Nieuwelaan 
	98) 4, 1860 Meise Belgie
SEQUENCE:0
STATUS:CONFIRMED
SUMMARY:VMU13N2R1-F-0002: VC Knodde Meise + - Wolvertem Sporting A
TRANSP:OPAQUE
END:VEVENT
BEGIN:VEVENT
DTSTART:20250921T083000Z
DTEND:20250921T100000Z
DTSTAMP:20260422T132900Z
UID:463859
CREATED:20260422T132900Z
DESCRIPTION:VMU13N2R1-F-0004: TJV Lindemans Zellik A + - Wolvertem Spo
	rting A\n\nLocatie: Relegem, Sporthal PIVO\nPoverstraat 75, 1731 Releg
	em\n\nLaatste update: 22/04/2026 15:29\n\nDe wedstrijd info wordt mins
	tens 1x per dag geupdate. Dus als de update datum niet recent is, dan 
	kan het zijn dat je niet de laatste informatie hebt. Dit ligt typisch 
	aan instellingen op je telefoon.
LAST-MODIFIED:20260422T132900Z
LOCATION:Relegem, Sporthal PIVO, Poverstraat 75, 1731 Relegem Belgie
SEQUENCE:0
STATUS:CONFIRMED
SUMMARY:VMU13N2R1-F-0004: TJV Lindemans Zellik A + - Wolvertem Sporting A
TRANSP:OPAQUE
END:VEVENT
BEGIN:VEVENT
DTSTART:20251004T113000Z
DTEND:20251004T130000Z
DTSTAMP:20260422T132900Z
UID:463865
CREATED:20260422T132900Z
DESCRIPTION:VMU13N2R1-F-0010: Wolvertem Sporting A - Grivok Grimbergen
	 B +\n\nLocatie: Wolvertem, Sportschuur\nPopulierenlaan 20, 1861 Wolve
	rtem\n\nLaatste update: 22/04/2026 15:29\n\nDe wedstrijd info wordt mi
	nstens 1x per dag geupdate. Dus als de update datum niet recent is, da
	n kan het zijn dat je niet de laatste informatie hebt. Dit ligt typisc
	h aan instellingen op je telefoon.
LAST-MODIFIED:20260422T132900Z
LOCATION:Wolvertem, Sportschuur, Populierenlaan 20, 1861 Wolvertem Bel
	gie
SEQUENCE:0
STATUS:CONFIRMED
SUMMARY:VMU13N2R1-F-0010: Wolvertem Sporting A - Grivok Grimbergen B +
TRANSP:OPAQUE
END:VEVENT
BEGIN:VEVENT
DTSTART:20251025T113000Z
DTEND:20251025T130000Z
DTSTAMP:20260422T132900Z
UID:463872
CREATED:20260422T132900Z
DESCRIPTION:VMU13N2R1-F-0017: Wolvertem Sporting A - VC Knodde Meise +
	\n\nLocatie: Wolvertem, Sportschuur\nPopulierenlaan 20, 1861 Wolvertem
	\n\nLaatste update: 22/04/2026 15:29\n\nDe wedstrijd info wordt minste
	ns 1x per dag geupdate. Dus als de update datum niet recent is, dan ka
	n het zijn dat je niet de laatste informatie hebt. Dit ligt typisch aa
	n instellingen op je telefoon.
LAST-MODIFIED:20260422T132900Z
LOCATION:Wolvertem, Sportschuur, Populierenlaan 20, 1861 Wolvertem Bel
	gie
SEQUENCE:0
STATUS:CONFIRMED
SUMMARY:VMU13N2R1-F-0017: Wolvertem Sporting A - VC Knodde Meise +
TRANSP:OPAQUE
END:VEVENT
BEGIN:VEVENT
DTSTART:20251108T123000Z
DTEND:20251108T140000Z
DTSTAMP:20260422T132900Z
UID:463874
CREATED:20260422T132900Z
DESCRIPTION:VMU13N2R1-F-0019: Wolvertem Sporting A - TJV Lindemans Zel
	lik A +\n\nLocatie: Wolvertem, Sportschuur\nPopulierenlaan 20, 1861 Wo
	lvertem\n\nLaatste update: 22/04/2026 15:29\n\nDe wedstrijd info wordt
	 minstens 1x per dag geupdate. Dus als de update datum niet recent is,
	 dan kan het zijn dat je niet de laatste informatie hebt. Dit ligt typ
	isch aan instellingen op je telefoon.
LAST-MODIFIED:20260422T132900Z
LOCATION:Wolvertem, Sportschuur, Populierenlaan 20, 1861 Wolvertem Bel
	gie
SEQUENCE:0
STATUS:CONFIRMED
SUMMARY:VMU13N2R1-F-0019: Wolvertem Sporting A - TJV Lindemans Zellik A +
TRANSP:OPAQUE
END:VEVENT
BEGIN:VEVENT
DTSTART:20251122T123000Z
DTEND:20251122T140000Z
DTSTAMP:20260422T132900Z
UID:463880
CREATED:20260422T132900Z
DESCRIPTION:VMU13N2R1-F-0025: Grivok Grimbergen B + - Wolvertem Sporti
	ng A\n\nLocatie: Grimbergen, Gemeentelijke Sporthal Prinsenbos\nPastoo
	r Woutersstraat , 1850 Grimbergen\n\nLaatste update: 22/04/2026 15:29\
	n\nDe wedstrijd info wordt minstens 1x per dag geupdate. Dus als de up
	date datum niet recent is, dan kan het zijn dat je niet de laatste inf
	ormatie hebt. Dit ligt typisch aan instellingen op je telefoon.
LAST-MODIFIED:20260422T132900Z
LOCATION:Grimbergen, Gemeentelijke Sporthal Prinsenbos, Pastoor Wouter
	sstraat, 1850 Grimbergen Belgie
SEQUENCE:0
STATUS:CONFIRMED
SUMMARY:VMU13N2R1-F-0025: Grivok Grimbergen B + - Wolvertem Sporting A
TRANSP:OPAQUE
END:VEVENT
END:VCALENDAR