BEGIN:VCALENDAR
PRODID:-//KDG Projects//Volleyscores.be//EN
VERSION:2.0
CALSCALE:GREGORIAN
METHOD:PUBLISH
NAME:Wolvertem Sporting A
X-WR-CALNAME:Wolvertem Sporting A
X-WR-RELCALID:t=95768@volleyadmin2.be
REFRESH-INTERVAL;VALUE=DURATION:PT4H
X-PUBLISHED-TTL:PT4H
BEGIN:VTIMEZONE
TZID:Europe/Brussels
X-LIC-LOCATION:Europe/Brussels
BEGIN:DAYLIGHT
TZOFFSETFROM:+0100
TZOFFSETTO:+0200
TZNAME:CEST
DTSTART:19700329T020000
RRULE:FREQ=YEARLY;BYMONTH=3;BYDAY=-1SU
END:DAYLIGHT
BEGIN:STANDARD
TZOFFSETFROM:+0200
TZOFFSETTO:+0100
TZNAME:CET
DTSTART:19701025T030000
RRULE:FREQ=YEARLY;BYMONTH=10;BYDAY=-1SU
END:STANDARD
END:VTIMEZONE
BEGIN:VEVENT
DTSTART:20250913T113000Z
DTEND:20250913T130000Z
DTSTAMP:20260422T132500Z
UID:464327
CREATED:20260422T132500Z
DESCRIPTION:VMU17N2R1-C-0002: Wolvertem Sporting A - HZ 93 Hofstade-Ze
	mst A\n\nLocatie: Wolvertem, Sportschuur\nPopulierenlaan 20, 1861 Wolv
	ertem\n\nLaatste update: 22/04/2026 15:25\n\nDe wedstrijd info wordt m
	instens 1x per dag geupdate. Dus als de update datum niet recent is, d
	an kan het zijn dat je niet de laatste informatie hebt. Dit ligt typis
	ch aan instellingen op je telefoon.
LAST-MODIFIED:20260422T132500Z
LOCATION:Wolvertem, Sportschuur, Populierenlaan 20, 1861 Wolvertem Bel
	gie
SEQUENCE:0
STATUS:CONFIRMED
SUMMARY:VMU17N2R1-C-0002: Wolvertem Sporting A - HZ 93 Hofstade-Zemst A
TRANSP:OPAQUE
END:VEVENT
BEGIN:VEVENT
DTSTART:20250920T103000Z
DTEND:20250920T120000Z
DTSTAMP:20260422T132500Z
UID:464328
CREATED:20260422T132500Z
DESCRIPTION:VMU17N2R1-C-0003: V.C. Zavath Zaventem + - Wolvertem Sport
	ing A\n\nLocatie: Zaventem, Gemeentelijke Sporthal\nSteenokkerzeelstra
	at 58-60, 1930 Zaventem\n\nLaatste update: 22/04/2026 15:25\n\nDe weds
	trijd info wordt minstens 1x per dag geupdate. Dus als de update datum
	 niet recent is, dan kan het zijn dat je niet de laatste informatie he
	bt. Dit ligt typisch aan instellingen op je telefoon.
LAST-MODIFIED:20260422T132500Z
LOCATION:Zaventem, Gemeentelijke Sporthal, Steenokkerzeelstraat 58-60,
	 1930 Zaventem Belgie
SEQUENCE:0
STATUS:CONFIRMED
SUMMARY:VMU17N2R1-C-0003: V.C. Zavath Zaventem + - Wolvertem Sporting A
TRANSP:OPAQUE
END:VEVENT
BEGIN:VEVENT
DTSTART:20251004T113000Z
DTEND:20251004T130000Z
DTSTAMP:20260422T132500Z
UID:464332
CREATED:20260422T132500Z
DESCRIPTION:VMU17N2R1-C-0007: Wolvertem Sporting A - Grivok Grimbergen
	 B\n\nLocatie: Wolvertem, Sportschuur\nPopulierenlaan 20, 1861 Wolvert
	em\n\nLaatste update: 22/04/2026 15:25\n\nDe wedstrijd info wordt mins
	tens 1x per dag geupdate. Dus als de update datum niet recent is, dan 
	kan het zijn dat je niet de laatste informatie hebt. Dit ligt typisch 
	aan instellingen op je telefoon.
LAST-MODIFIED:20260422T132500Z
LOCATION:Wolvertem, Sportschuur, Populierenlaan 20, 1861 Wolvertem Bel
	gie
SEQUENCE:0
STATUS:CONFIRMED
SUMMARY:VMU17N2R1-C-0007: Wolvertem Sporting A - Grivok Grimbergen B
TRANSP:OPAQUE
END:VEVENT
BEGIN:VEVENT
DTSTART:20251129T130000Z
DTEND:20251129T143000Z
DTSTAMP:20260422T132500Z
UID:464334
CREATED:20260422T132500Z
DESCRIPTION:VMU17N2R1-C-0009: VBT Machelen + - Wolvertem Sporting A\n\
	nLocatie: Machelen, Sporthal Bosveld\nHeirbaan 10, 1830 Machelen\n\nLa
	atste update: 22/04/2026 15:25\n\nDe wedstrijd info wordt minstens 1x 
	per dag geupdate. Dus als de update datum niet recent is, dan kan het 
	zijn dat je niet de laatste informatie hebt. Dit ligt typisch aan inst
	ellingen op je telefoon.
LAST-MODIFIED:20260422T132500Z
LOCATION:Machelen, Sporthal Bosveld, Heirbaan 10, 1830 Machelen Belgie
SEQUENCE:0
STATUS:CONFIRMED
SUMMARY:VMU17N2R1-C-0009: VBT Machelen + - Wolvertem Sporting A
TRANSP:OPAQUE
END:VEVENT
BEGIN:VEVENT
DTSTART:20251018T080000Z
DTEND:20251018T093000Z
DTSTAMP:20260422T132500Z
UID:464337
CREATED:20260422T132500Z
DESCRIPTION:VMU17N2R1-C-0012: HZ 93 Hofstade-Zemst A - Wolvertem Sport
	ing A\n\nLocatie: Zemst, Den Turfput\nBrusselsesteenweg 5, 1980 Zemst\
	n\nLaatste update: 22/04/2026 15:25\n\nDe wedstrijd info wordt minsten
	s 1x per dag geupdate. Dus als de update datum niet recent is, dan kan
	 het zijn dat je niet de laatste informatie hebt. Dit ligt typisch aan
	 instellingen op je telefoon.
LAST-MODIFIED:20260422T132500Z
LOCATION:Zemst, Den Turfput, Brusselsesteenweg 5, 1980 Zemst Belgie
SEQUENCE:0
STATUS:CONFIRMED
SUMMARY:VMU17N2R1-C-0012: HZ 93 Hofstade-Zemst A - Wolvertem Sporting A
TRANSP:OPAQUE
END:VEVENT
BEGIN:VEVENT
DTSTART:20251108T123000Z
DTEND:20251108T140000Z
DTSTAMP:20260422T132500Z
UID:464338
CREATED:20260422T132500Z
DESCRIPTION:VMU17N2R1-C-0013: Wolvertem Sporting A - V.C. Zavath Zaven
	tem +\n\nLocatie: Wolvertem, Sportschuur\nPopulierenlaan 20, 1861 Wolv
	ertem\n\nLaatste update: 22/04/2026 15:25\n\nDe wedstrijd info wordt m
	instens 1x per dag geupdate. Dus als de update datum niet recent is, d
	an kan het zijn dat je niet de laatste informatie hebt. Dit ligt typis
	ch aan instellingen op je telefoon.
LAST-MODIFIED:20260422T132500Z
LOCATION:Wolvertem, Sportschuur, Populierenlaan 20, 1861 Wolvertem Bel
	gie
SEQUENCE:0
STATUS:CONFIRMED
SUMMARY:VMU17N2R1-C-0013: Wolvertem Sporting A - V.C. Zavath Zaventem +
TRANSP:OPAQUE
END:VEVENT
BEGIN:VEVENT
DTSTART:20251122T123000Z
DTEND:20251122T140000Z
DTSTAMP:20260422T132500Z
UID:464342
CREATED:20260422T132500Z
DESCRIPTION:VMU17N2R1-C-0017: Grivok Grimbergen B - Wolvertem Sporting
	 A\n\nLocatie: Grimbergen, Gemeentelijke Sporthal Prinsenbos\nPastoor 
	Woutersstraat , 1850 Grimbergen\n\nLaatste update: 22/04/2026 15:25\n\
	nDe wedstrijd info wordt minstens 1x per dag geupdate. Dus als de upda
	te datum niet recent is, dan kan het zijn dat je niet de laatste infor
	matie hebt. Dit ligt typisch aan instellingen op je telefoon.
LAST-MODIFIED:20260422T132500Z
LOCATION:Grimbergen, Gemeentelijke Sporthal Prinsenbos, Pastoor Wouter
	sstraat, 1850 Grimbergen Belgie
SEQUENCE:0
STATUS:CONFIRMED
SUMMARY:VMU17N2R1-C-0017: Grivok Grimbergen B - Wolvertem Sporting A
TRANSP:OPAQUE
END:VEVENT
BEGIN:VEVENT
DTSTART:20251011T133000Z
DTEND:20251011T150000Z
DTSTAMP:20260422T132500Z
UID:464344
CREATED:20260422T132500Z
DESCRIPTION:VMU17N2R1-C-0019: Wolvertem Sporting A - VBT Machelen +\n\
	nLocatie: Wolvertem, Sportschuur\nPopulierenlaan 20, 1861 Wolvertem\n\
	nLaatste update: 22/04/2026 15:25\n\nDe wedstrijd info wordt minstens 
	1x per dag geupdate. Dus als de update datum niet recent is, dan kan h
	et zijn dat je niet de laatste informatie hebt. Dit ligt typisch aan i
	nstellingen op je telefoon.
LAST-MODIFIED:20260422T132500Z
LOCATION:Wolvertem, Sportschuur, Populierenlaan 20, 1861 Wolvertem Bel
	gie
SEQUENCE:0
STATUS:CONFIRMED
SUMMARY:VMU17N2R1-C-0019: Wolvertem Sporting A - VBT Machelen +
TRANSP:OPAQUE
END:VEVENT
END:VCALENDAR