BEGIN:VCALENDAR
PRODID:-//KDG Projects//Volleyscores.be//EN
VERSION:2.0
CALSCALE:GREGORIAN
METHOD:PUBLISH
NAME:Wolvertem Sporting +
X-WR-CALNAME:Wolvertem Sporting +
X-WR-RELCALID:t=95763@volleyadmin2.be
REFRESH-INTERVAL;VALUE=DURATION:PT4H
X-PUBLISHED-TTL:PT4H
BEGIN:VTIMEZONE
TZID:Europe/Brussels
X-LIC-LOCATION:Europe/Brussels
BEGIN:DAYLIGHT
TZOFFSETFROM:+0100
TZOFFSETTO:+0200
TZNAME:CEST
DTSTART:19700329T020000
RRULE:FREQ=YEARLY;BYMONTH=3;BYDAY=-1SU
END:DAYLIGHT
BEGIN:STANDARD
TZOFFSETFROM:+0200
TZOFFSETTO:+0100
TZNAME:CET
DTSTART:19701025T030000
RRULE:FREQ=YEARLY;BYMONTH=10;BYDAY=-1SU
END:STANDARD
END:VTIMEZONE
BEGIN:VEVENT
DTSTART:20250913T133000Z
DTEND:20250913T150000Z
DTSTAMP:20260422T133100Z
UID:463556
CREATED:20260422T133100Z
DESCRIPTION:VMU17N2R1-B-0001: Wolvertem Sporting + - Daatmet Liedekerk
	e B +\n\nLocatie: Wolvertem, Sportschuur\nPopulierenlaan 20, 1861 Wolv
	ertem\n\nLaatste update: 22/04/2026 15:31\n\nDe wedstrijd info wordt m
	instens 1x per dag geupdate. Dus als de update datum niet recent is, d
	an kan het zijn dat je niet de laatste informatie hebt. Dit ligt typis
	ch aan instellingen op je telefoon.
LAST-MODIFIED:20260422T133100Z
LOCATION:Wolvertem, Sportschuur, Populierenlaan 20, 1861 Wolvertem Bel
	gie
SEQUENCE:0
STATUS:CONFIRMED
SUMMARY:VMU17N2R1-B-0001: Wolvertem Sporting + - Daatmet Liedekerke B +
TRANSP:OPAQUE
END:VEVENT
BEGIN:VEVENT
DTSTART:20250920T133000Z
DTEND:20250920T150000Z
DTSTAMP:20260422T133100Z
UID:463559
CREATED:20260422T133100Z
DESCRIPTION:VMU17N2R1-B-0004: Wolvertem Sporting + - VC Lennik C\n\nLo
	catie: Wolvertem, Sportschuur\nPopulierenlaan 20, 1861 Wolvertem\n\nLa
	atste update: 22/04/2026 15:31\n\nDe wedstrijd info wordt minstens 1x 
	per dag geupdate. Dus als de update datum niet recent is, dan kan het 
	zijn dat je niet de laatste informatie hebt. Dit ligt typisch aan inst
	ellingen op je telefoon.
LAST-MODIFIED:20260422T133100Z
LOCATION:Wolvertem, Sportschuur, Populierenlaan 20, 1861 Wolvertem Bel
	gie
SEQUENCE:0
STATUS:CONFIRMED
SUMMARY:VMU17N2R1-B-0004: Wolvertem Sporting + - VC Lennik C
TRANSP:OPAQUE
END:VEVENT
BEGIN:VEVENT
DTSTART:20250927T173000Z
DTEND:20250927T190000Z
DTSTAMP:20260422T133100Z
UID:463564
CREATED:20260422T133100Z
DESCRIPTION:VMU17N2R1-B-0009: Volley Opwijk C - Wolvertem Sporting +\n
	\nLocatie: Opwijk, Gemeentelijke Sporthal\nHeiveld 65, 1745 Opwijk\n\n
	Laatste update: 22/04/2026 15:31\n\nDe wedstrijd info wordt minstens 1
	x per dag geupdate. Dus als de update datum niet recent is, dan kan he
	t zijn dat je niet de laatste informatie hebt. Dit ligt typisch aan in
	stellingen op je telefoon.
LAST-MODIFIED:20260422T133100Z
LOCATION:Opwijk, Gemeentelijke Sporthal, Heiveld 65, 1745 Opwijk Belgi
	e
SEQUENCE:0
STATUS:CONFIRMED
SUMMARY:VMU17N2R1-B-0009: Volley Opwijk C - Wolvertem Sporting +
TRANSP:OPAQUE
END:VEVENT
BEGIN:VEVENT
DTSTART:20251122T130000Z
DTEND:20251122T143000Z
DTSTAMP:20260422T133100Z
UID:463567
CREATED:20260422T133100Z
DESCRIPTION:VMU17N2R1-B-0012: TJV Lindemans Zellik + - Wolvertem Sport
	ing +\n\nLocatie: Relegem, Sporthal PIVO\nPoverstraat 75, 1731 Relegem
	\n\nLaatste update: 22/04/2026 15:31\n\nDe wedstrijd info wordt minste
	ns 1x per dag geupdate. Dus als de update datum niet recent is, dan ka
	n het zijn dat je niet de laatste informatie hebt. Dit ligt typisch aa
	n instellingen op je telefoon.
LAST-MODIFIED:20260422T133100Z
LOCATION:Relegem, Sporthal PIVO, Poverstraat 75, 1731 Relegem Belgie
SEQUENCE:0
STATUS:CONFIRMED
SUMMARY:VMU17N2R1-B-0012: TJV Lindemans Zellik + - Wolvertem Sporting +
TRANSP:OPAQUE
END:VEVENT
BEGIN:VEVENT
DTSTART:20251011T150000Z
DTEND:20251011T163000Z
DTSTAMP:20260422T133100Z
UID:463568
CREATED:20260422T133100Z
DESCRIPTION:VMU17N2R1-B-0013: Wolvertem Sporting + - VC Knodde Meise +
	\n\nLocatie: Wolvertem, Sportschuur\nPopulierenlaan 20, 1861 Wolvertem
	\n\nLaatste update: 22/04/2026 15:31\n\nDe wedstrijd info wordt minste
	ns 1x per dag geupdate. Dus als de update datum niet recent is, dan ka
	n het zijn dat je niet de laatste informatie hebt. Dit ligt typisch aa
	n instellingen op je telefoon.
LAST-MODIFIED:20260422T133100Z
LOCATION:Wolvertem, Sportschuur, Populierenlaan 20, 1861 Wolvertem Bel
	gie
SEQUENCE:0
STATUS:CONFIRMED
SUMMARY:VMU17N2R1-B-0013: Wolvertem Sporting + - VC Knodde Meise +
TRANSP:OPAQUE
END:VEVENT
BEGIN:VEVENT
DTSTART:20251025T150000Z
DTEND:20251025T163000Z
DTSTAMP:20260422T133100Z
UID:463571
CREATED:20260422T133100Z
DESCRIPTION:VMU17N2R1-B-0016: Daatmet Liedekerke B + - Wolvertem Sport
	ing +\n\nLocatie: Liedekerke, Sporthal Heuvelkouter\nSportlaan 3, 1770
	 Liedekerke\n\nLaatste update: 22/04/2026 15:31\n\nDe wedstrijd info w
	ordt minstens 1x per dag geupdate. Dus als de update datum niet recent
	 is, dan kan het zijn dat je niet de laatste informatie hebt. Dit ligt
	 typisch aan instellingen op je telefoon.
LAST-MODIFIED:20260422T133100Z
LOCATION:Liedekerke, Sporthal Heuvelkouter, Sportlaan 3, 1770 Liedeker
	ke Belgie
SEQUENCE:0
STATUS:CONFIRMED
SUMMARY:VMU17N2R1-B-0016: Daatmet Liedekerke B + - Wolvertem Sporting +
TRANSP:OPAQUE
END:VEVENT
BEGIN:VEVENT
DTSTART:20251108T123000Z
DTEND:20251108T140000Z
DTSTAMP:20260422T133100Z
UID:463574
CREATED:20260422T133100Z
DESCRIPTION:VMU17N2R1-B-0019: VC Lennik C - Wolvertem Sporting +\n\nLo
	catie: Lennik, Sporthal Jo Baetens\nA. Algoetstraat 77, 1750 Lennik\n\
	nLaatste update: 22/04/2026 15:31\n\nDe wedstrijd info wordt minstens 
	1x per dag geupdate. Dus als de update datum niet recent is, dan kan h
	et zijn dat je niet de laatste informatie hebt. Dit ligt typisch aan i
	nstellingen op je telefoon.
LAST-MODIFIED:20260422T133100Z
LOCATION:Lennik, Sporthal Jo Baetens, A. Algoetstraat 77, 1750 Lennik 
	Belgie
SEQUENCE:0
STATUS:CONFIRMED
SUMMARY:VMU17N2R1-B-0019: VC Lennik C - Wolvertem Sporting +
TRANSP:OPAQUE
END:VEVENT
BEGIN:VEVENT
DTSTART:20251115T143000Z
DTEND:20251115T160000Z
DTSTAMP:20260422T133100Z
UID:463579
CREATED:20260422T133100Z
DESCRIPTION:VMU17N2R1-B-0024: Wolvertem Sporting + - Volley Opwijk C\n
	\nLocatie: Wolvertem, Sportschuur\nPopulierenlaan 20, 1861 Wolvertem\n
	\nLaatste update: 22/04/2026 15:31\n\nDe wedstrijd info wordt minstens
	 1x per dag geupdate. Dus als de update datum niet recent is, dan kan 
	het zijn dat je niet de laatste informatie hebt. Dit ligt typisch aan 
	instellingen op je telefoon.
LAST-MODIFIED:20260422T133100Z
LOCATION:Wolvertem, Sportschuur, Populierenlaan 20, 1861 Wolvertem Bel
	gie
SEQUENCE:0
STATUS:CONFIRMED
SUMMARY:VMU17N2R1-B-0024: Wolvertem Sporting + - Volley Opwijk C
TRANSP:OPAQUE
END:VEVENT
BEGIN:VEVENT
DTSTART:20251004T133000Z
DTEND:20251004T150000Z
DTSTAMP:20260422T133100Z
UID:463582
CREATED:20260422T133100Z
DESCRIPTION:VMU17N2R1-B-0027: Wolvertem Sporting + - TJV Lindemans Zel
	lik +\n\nLocatie: Wolvertem, Sportschuur\nPopulierenlaan 20, 1861 Wolv
	ertem\n\nLaatste update: 22/04/2026 15:31\n\nDe wedstrijd info wordt m
	instens 1x per dag geupdate. Dus als de update datum niet recent is, d
	an kan het zijn dat je niet de laatste informatie hebt. Dit ligt typis
	ch aan instellingen op je telefoon.
LAST-MODIFIED:20260422T133100Z
LOCATION:Wolvertem, Sportschuur, Populierenlaan 20, 1861 Wolvertem Bel
	gie
SEQUENCE:0
STATUS:CONFIRMED
SUMMARY:VMU17N2R1-B-0027: Wolvertem Sporting + - TJV Lindemans Zellik +
TRANSP:OPAQUE
END:VEVENT
BEGIN:VEVENT
DTSTART:20251129T160000Z
DTEND:20251129T173000Z
DTSTAMP:20260422T133100Z
UID:463583
CREATED:20260422T133100Z
DESCRIPTION:VMU17N2R1-B-0028: VC Knodde Meise + - Wolvertem Sporting +
	\n\nLocatie: Meise, Sporthal \nAnn Christyplein (parkeerplaats Nieuwel
	aan 98) 4, 1860 Meise\n\nLaatste update: 22/04/2026 15:31\n\nDe wedstr
	ijd info wordt minstens 1x per dag geupdate. Dus als de update datum n
	iet recent is, dan kan het zijn dat je niet de laatste informatie hebt
	. Dit ligt typisch aan instellingen op je telefoon.
LAST-MODIFIED:20260422T133100Z
LOCATION:Meise, Sporthal , Ann Christyplein (parkeerplaats Nieuwelaan 
	98) 4, 1860 Meise Belgie
SEQUENCE:0
STATUS:CONFIRMED
SUMMARY:VMU17N2R1-B-0028: VC Knodde Meise + - Wolvertem Sporting +
TRANSP:OPAQUE
END:VEVENT
END:VCALENDAR