BEGIN:VCALENDAR
PRODID:-//KDG Projects//Volleyscores.be//EN
VERSION:2.0
CALSCALE:GREGORIAN
METHOD:PUBLISH
NAME:Wolvertem Sporting
X-WR-CALNAME:Wolvertem Sporting
X-WR-RELCALID:t=95717@volleyadmin2.be
REFRESH-INTERVAL;VALUE=DURATION:PT4H
X-PUBLISHED-TTL:PT4H
BEGIN:VTIMEZONE
TZID:Europe/Brussels
X-LIC-LOCATION:Europe/Brussels
BEGIN:DAYLIGHT
TZOFFSETFROM:+0100
TZOFFSETTO:+0200
TZNAME:CEST
DTSTART:19700329T020000
RRULE:FREQ=YEARLY;BYMONTH=3;BYDAY=-1SU
END:DAYLIGHT
BEGIN:STANDARD
TZOFFSETFROM:+0200
TZOFFSETTO:+0100
TZNAME:CET
DTSTART:19701025T030000
RRULE:FREQ=YEARLY;BYMONTH=10;BYDAY=-1SU
END:STANDARD
END:VTIMEZONE
BEGIN:VEVENT
DTSTART:20250921T080000Z
DTEND:20250921T093000Z
DTSTAMP:20260422T133100Z
UID:463417
CREATED:20260422T133100Z
DESCRIPTION:VXU11-2-2-N3R1-C-0006: Grivok Grimbergen A - Wolvertem Spo
	rting\n\nLocatie: Grimbergen, Gemeentelijke Sporthal Prinsenbos\nPasto
	or Woutersstraat , 1850 Grimbergen\n\nLaatste update: 22/04/2026 15:31
	\n\nDe wedstrijd info wordt minstens 1x per dag geupdate. Dus als de u
	pdate datum niet recent is, dan kan het zijn dat je niet de laatste in
	formatie hebt. Dit ligt typisch aan instellingen op je telefoon.
LAST-MODIFIED:20260422T133100Z
LOCATION:Grimbergen, Gemeentelijke Sporthal Prinsenbos, Pastoor Wouter
	sstraat, 1850 Grimbergen Belgie
SEQUENCE:0
STATUS:CONFIRMED
SUMMARY:VXU11-2-2-N3R1-C-0006: Grivok Grimbergen A - Wolvertem Sporting
TRANSP:OPAQUE
END:VEVENT
BEGIN:VEVENT
DTSTART:20250927T113000Z
DTEND:20250927T130000Z
DTSTAMP:20260422T133100Z
UID:463420
CREATED:20260422T133100Z
DESCRIPTION:VXU11-2-2-N3R1-C-0009: Wolvertem Sporting - VC Feniks Haac
	ht\n\nLocatie: Wolvertem, Sportschuur\nPopulierenlaan 20, 1861 Wolvert
	em\n\nLaatste update: 22/04/2026 15:31\n\nDe wedstrijd info wordt mins
	tens 1x per dag geupdate. Dus als de update datum niet recent is, dan 
	kan het zijn dat je niet de laatste informatie hebt. Dit ligt typisch 
	aan instellingen op je telefoon.
LAST-MODIFIED:20260422T133100Z
LOCATION:Wolvertem, Sportschuur, Populierenlaan 20, 1861 Wolvertem Bel
	gie
SEQUENCE:0
STATUS:CONFIRMED
SUMMARY:VXU11-2-2-N3R1-C-0009: Wolvertem Sporting - VC Feniks Haacht
TRANSP:OPAQUE
END:VEVENT
BEGIN:VEVENT
DTSTART:20251004T080000Z
DTEND:20251004T093000Z
DTSTAMP:20260422T133100Z
UID:463423
CREATED:20260422T133100Z
DESCRIPTION:VXU11-2-2-N3R1-C-0012: V.C. Zavath Zaventem + - Wolvertem 
	Sporting\n\nLocatie: Zaventem, Gemeentelijke Sporthal\nSteenokkerzeels
	traat 58-60, 1930 Zaventem\n\nLaatste update: 22/04/2026 15:31\n\nDe w
	edstrijd info wordt minstens 1x per dag geupdate. Dus als de update da
	tum niet recent is, dan kan het zijn dat je niet de laatste informatie
	 hebt. Dit ligt typisch aan instellingen op je telefoon.
LAST-MODIFIED:20260422T133100Z
LOCATION:Zaventem, Gemeentelijke Sporthal, Steenokkerzeelstraat 58-60,
	 1930 Zaventem Belgie
SEQUENCE:0
STATUS:CONFIRMED
SUMMARY:VXU11-2-2-N3R1-C-0012: V.C. Zavath Zaventem + - Wolvertem Sporting
TRANSP:OPAQUE
END:VEVENT
BEGIN:VEVENT
DTSTART:20251011T080000Z
DTEND:20251011T093000Z
DTSTAMP:20260422T133100Z
UID:463424
CREATED:20260422T133100Z
DESCRIPTION:VXU11-2-2-N3R1-C-0013: VCV Leefdaal-Bertem B - Wolvertem S
	porting\n\nLocatie: Leefdaal, Sporthal Verona\nDorpstraat 259, 3061 Le
	efdaal\n\nLaatste update: 22/04/2026 15:31\n\nDe wedstrijd info wordt 
	minstens 1x per dag geupdate. Dus als de update datum niet recent is, 
	dan kan het zijn dat je niet de laatste informatie hebt. Dit ligt typi
	sch aan instellingen op je telefoon.
LAST-MODIFIED:20260422T133100Z
LOCATION:Leefdaal, Sporthal Verona, Dorpstraat 259, 3061 Leefdaal Belg
	ie
SEQUENCE:0
STATUS:CONFIRMED
SUMMARY:VXU11-2-2-N3R1-C-0013: VCV Leefdaal-Bertem B - Wolvertem Sporting
TRANSP:OPAQUE
END:VEVENT
BEGIN:VEVENT
DTSTART:20251025T113000Z
DTEND:20251025T130000Z
DTSTAMP:20260422T133100Z
UID:463429
CREATED:20260422T133100Z
DESCRIPTION:VXU11-2-2-N3R1-C-0018: Wolvertem Sporting - VBT Machelen\n
	\nLocatie: Wolvertem, Sportschuur\nPopulierenlaan 20, 1861 Wolvertem\n
	\nLaatste update: 22/04/2026 15:31\n\nDe wedstrijd info wordt minstens
	 1x per dag geupdate. Dus als de update datum niet recent is, dan kan 
	het zijn dat je niet de laatste informatie hebt. Dit ligt typisch aan 
	instellingen op je telefoon.
LAST-MODIFIED:20260422T133100Z
LOCATION:Wolvertem, Sportschuur, Populierenlaan 20, 1861 Wolvertem Bel
	gie
SEQUENCE:0
STATUS:CONFIRMED
SUMMARY:VXU11-2-2-N3R1-C-0018: Wolvertem Sporting - VBT Machelen
TRANSP:OPAQUE
END:VEVENT
BEGIN:VEVENT
DTSTART:20251108T143000Z
DTEND:20251108T160000Z
DTSTAMP:20260422T133100Z
UID:463431
CREATED:20260422T133100Z
DESCRIPTION:VXU11-2-2-N3R1-C-0020: Grivok Grimbergen  - Wolvertem Spor
	ting\n\nLocatie: Grimbergen, Gemeentelijke Sporthal Prinsenbos\nPastoo
	r Woutersstraat , 1850 Grimbergen\n\nLaatste update: 22/04/2026 15:31\
	n\nDe wedstrijd info wordt minstens 1x per dag geupdate. Dus als de up
	date datum niet recent is, dan kan het zijn dat je niet de laatste inf
	ormatie hebt. Dit ligt typisch aan instellingen op je telefoon.
LAST-MODIFIED:20260422T133100Z
LOCATION:Grimbergen, Gemeentelijke Sporthal Prinsenbos, Pastoor Wouter
	sstraat, 1850 Grimbergen Belgie
SEQUENCE:0
STATUS:CONFIRMED
SUMMARY:VXU11-2-2-N3R1-C-0020: Grivok Grimbergen  - Wolvertem Sporting
TRANSP:OPAQUE
END:VEVENT
BEGIN:VEVENT
DTSTART:20251122T123000Z
DTEND:20251122T140000Z
DTSTAMP:20260422T133100Z
UID:463438
CREATED:20260422T133100Z
DESCRIPTION:VXU11-2-2-N3R1-C-0027: Wolvertem Sporting - Grivok Grimber
	gen A\n\nLocatie: Wolvertem, Sportschuur\nPopulierenlaan 20, 1861 Wolv
	ertem\n\nLaatste update: 22/04/2026 15:31\n\nDe wedstrijd info wordt m
	instens 1x per dag geupdate. Dus als de update datum niet recent is, d
	an kan het zijn dat je niet de laatste informatie hebt. Dit ligt typis
	ch aan instellingen op je telefoon.
LAST-MODIFIED:20260422T133100Z
LOCATION:Wolvertem, Sportschuur, Populierenlaan 20, 1861 Wolvertem Bel
	gie
SEQUENCE:0
STATUS:CONFIRMED
SUMMARY:VXU11-2-2-N3R1-C-0027: Wolvertem Sporting - Grivok Grimbergen A
TRANSP:OPAQUE
END:VEVENT
BEGIN:VEVENT
DTSTART:20251129T080000Z
DTEND:20251129T093000Z
DTSTAMP:20260422T133100Z
UID:463439
CREATED:20260422T133100Z
DESCRIPTION:VXU11-2-2-N3R1-C-0028: VC Feniks Haacht - Wolvertem Sporti
	ng\n\nLocatie: Wespelaar, Sportcomplex Den Dijk\nDijkstraat 1, 3150 Ha
	acht (Wespelaar)\n\nLaatste update: 22/04/2026 15:31\n\nDe wedstrijd i
	nfo wordt minstens 1x per dag geupdate. Dus als de update datum niet r
	ecent is, dan kan het zijn dat je niet de laatste informatie hebt. Dit
	 ligt typisch aan instellingen op je telefoon.
LAST-MODIFIED:20260422T133100Z
LOCATION:Wespelaar, Sportcomplex Den Dijk, Dijkstraat 1, 3150 Haacht (
	Wespelaar) Belgie
SEQUENCE:0
STATUS:CONFIRMED
SUMMARY:VXU11-2-2-N3R1-C-0028: VC Feniks Haacht - Wolvertem Sporting
TRANSP:OPAQUE
END:VEVENT
BEGIN:VEVENT
DTSTART:20251206T123000Z
DTEND:20251206T140000Z
DTSTAMP:20260422T133100Z
UID:463444
CREATED:20260422T133100Z
DESCRIPTION:VXU11-2-2-N3R1-C-0033: Wolvertem Sporting - V.C. Zavath Za
	ventem +\n\nLocatie: Wolvertem, Sportschuur\nPopulierenlaan 20, 1861 W
	olvertem\n\nLaatste update: 22/04/2026 15:31\n\nDe wedstrijd info word
	t minstens 1x per dag geupdate. Dus als de update datum niet recent is
	, dan kan het zijn dat je niet de laatste informatie hebt. Dit ligt ty
	pisch aan instellingen op je telefoon.
LAST-MODIFIED:20260422T133100Z
LOCATION:Wolvertem, Sportschuur, Populierenlaan 20, 1861 Wolvertem Bel
	gie
SEQUENCE:0
STATUS:CONFIRMED
SUMMARY:VXU11-2-2-N3R1-C-0033: Wolvertem Sporting - V.C. Zavath Zaventem +
TRANSP:OPAQUE
END:VEVENT
END:VCALENDAR