BEGIN:VCALENDAR
PRODID:-//KDG Projects//Volleyscores.be//EN
VERSION:2.0
CALSCALE:GREGORIAN
METHOD:PUBLISH
NAME:Wolvertem Sporting A
X-WR-CALNAME:Wolvertem Sporting A
X-WR-RELCALID:t=90868@volleyadmin2.be
REFRESH-INTERVAL;VALUE=DURATION:PT4H
X-PUBLISHED-TTL:PT4H
BEGIN:VTIMEZONE
TZID:Europe/Brussels
X-LIC-LOCATION:Europe/Brussels
BEGIN:DAYLIGHT
TZOFFSETFROM:+0100
TZOFFSETTO:+0200
TZNAME:CEST
DTSTART:19700329T020000
RRULE:FREQ=YEARLY;BYMONTH=3;BYDAY=-1SU
END:DAYLIGHT
BEGIN:STANDARD
TZOFFSETFROM:+0200
TZOFFSETTO:+0100
TZNAME:CET
DTSTART:19701025T030000
RRULE:FREQ=YEARLY;BYMONTH=10;BYDAY=-1SU
END:STANDARD
END:VTIMEZONE
BEGIN:VEVENT
DTSTART:20250913T183000Z
DTEND:20250913T200000Z
DTSTAMP:20260422T132700Z
UID:462232
CREATED:20260422T132700Z
DESCRIPTION:VDP1-0005: Zuun Volleybal Club A - Wolvertem Sporting A\n\
	nLocatie: Sint-Pieters-Leeuw, Wildersportcomplex\nSportlaan 11, 1600 S
	int-Pieters-Leeuw\n\nLaatste update: 22/04/2026 15:27\n\nDe wedstrijd 
	info wordt minstens 1x per dag geupdate. Dus als de update datum niet 
	recent is, dan kan het zijn dat je niet de laatste informatie hebt. Di
	t ligt typisch aan instellingen op je telefoon.
LAST-MODIFIED:20260422T132700Z
LOCATION:Sint-Pieters-Leeuw, Wildersportcomplex, Sportlaan 11, 1600 Si
	nt-Pieters-Leeuw Belgie
SEQUENCE:0
STATUS:CONFIRMED
SUMMARY:VDP1-0005: Zuun Volleybal Club A - Wolvertem Sporting A
TRANSP:OPAQUE
END:VEVENT
BEGIN:VEVENT
DTSTART:20250920T143000Z
DTEND:20250920T160000Z
DTSTAMP:20260422T132700Z
UID:462238
CREATED:20260422T132700Z
DESCRIPTION:VDP1-0011: Volley Haasrode Leuven D - Wolvertem Sporting A
	\n\nLocatie: Haasrode, Sportcomplex \nMilsestraat 43, 3053 Haasrode\n\
	nLaatste update: 22/04/2026 15:27\n\nDe wedstrijd info wordt minstens 
	1x per dag geupdate. Dus als de update datum niet recent is, dan kan h
	et zijn dat je niet de laatste informatie hebt. Dit ligt typisch aan i
	nstellingen op je telefoon.
LAST-MODIFIED:20260422T132700Z
LOCATION:Haasrode, Sportcomplex , Milsestraat 43, 3053 Haasrode Belgie
SEQUENCE:0
STATUS:CONFIRMED
SUMMARY:VDP1-0011: Volley Haasrode Leuven D - Wolvertem Sporting A
TRANSP:OPAQUE
END:VEVENT
BEGIN:VEVENT
DTSTART:20250928T140000Z
DTEND:20250928T153000Z
DTSTAMP:20260422T132700Z
UID:462242
CREATED:20260422T132700Z
DESCRIPTION:VDP1-0015: Kreg Rotselaar A - Wolvertem Sporting A\n\nLoca
	tie: Rotselaar, Sportoase De Meander\nVakenstraat 18, 3110 Rotselaar\n
	\nLaatste update: 22/04/2026 15:27\n\nDe wedstrijd info wordt minstens
	 1x per dag geupdate. Dus als de update datum niet recent is, dan kan 
	het zijn dat je niet de laatste informatie hebt. Dit ligt typisch aan 
	instellingen op je telefoon.
LAST-MODIFIED:20260422T132700Z
LOCATION:Rotselaar, Sportoase De Meander, Vakenstraat 18, 3110 Rotsela
	ar Belgie
SEQUENCE:0
STATUS:CONFIRMED
SUMMARY:VDP1-0015: Kreg Rotselaar A - Wolvertem Sporting A
TRANSP:OPAQUE
END:VEVENT
BEGIN:VEVENT
DTSTART:20251004T190000Z
DTEND:20251004T203000Z
DTSTAMP:20260422T132700Z
UID:462250
CREATED:20260422T132700Z
DESCRIPTION:VDP1-0023: Wolvertem Sporting A - Grivok Grimbergen A\n\nL
	ocatie: Wolvertem, Sportschuur\nPopulierenlaan 20, 1861 Wolvertem\n\nL
	aatste update: 22/04/2026 15:27\n\nDe wedstrijd info wordt minstens 1x
	 per dag geupdate. Dus als de update datum niet recent is, dan kan het
	 zijn dat je niet de laatste informatie hebt. Dit ligt typisch aan ins
	tellingen op je telefoon.
LAST-MODIFIED:20260422T132700Z
LOCATION:Wolvertem, Sportschuur, Populierenlaan 20, 1861 Wolvertem Bel
	gie
SEQUENCE:0
STATUS:CONFIRMED
SUMMARY:VDP1-0023: Wolvertem Sporting A - Grivok Grimbergen A
TRANSP:OPAQUE
END:VEVENT
BEGIN:VEVENT
DTSTART:20251211T200000Z
DTEND:20251211T213000Z
DTSTAMP:20260422T132700Z
UID:462252
CREATED:20260422T132700Z
DESCRIPTION:VDP1-0025: Wevok St.-Joris-Weert A  - Wolvertem Sporting A
	\n\nLocatie: Sint-Joris-Weert, Ontmoetingscentrum\nBeekstraat 13, 3051
	 Sint-Joris-Weert\n\nLaatste update: 22/04/2026 15:27\n\nDe wedstrijd 
	info wordt minstens 1x per dag geupdate. Dus als de update datum niet 
	recent is, dan kan het zijn dat je niet de laatste informatie hebt. Di
	t ligt typisch aan instellingen op je telefoon.
LAST-MODIFIED:20260422T132700Z
LOCATION:Sint-Joris-Weert, Ontmoetingscentrum, Beekstraat 13, 3051 Sin
	t-Joris-Weert Belgie
SEQUENCE:0
STATUS:CONFIRMED
SUMMARY:VDP1-0025: Wevok St.-Joris-Weert A  - Wolvertem Sporting A
TRANSP:OPAQUE
END:VEVENT
BEGIN:VEVENT
DTSTART:20260214T193000Z
DTEND:20260214T210000Z
DTSTAMP:20260422T132700Z
UID:462262
CREATED:20260422T132700Z
DESCRIPTION:VDP1-0035: Golazo Averbode A - Wolvertem Sporting A\n\nLoc
	atie: Averbode, Gemeentelijke Sporthal\nMolenvijver 9, 3271 Averbode\n
	\nLaatste update: 22/04/2026 15:27\n\nDe wedstrijd info wordt minstens
	 1x per dag geupdate. Dus als de update datum niet recent is, dan kan 
	het zijn dat je niet de laatste informatie hebt. Dit ligt typisch aan 
	instellingen op je telefoon.
LAST-MODIFIED:20260422T132700Z
LOCATION:Averbode, Gemeentelijke Sporthal, Molenvijver 9, 3271 Averbod
	e Belgie
SEQUENCE:0
STATUS:CONFIRMED
SUMMARY:VDP1-0035: Golazo Averbode A - Wolvertem Sporting A
TRANSP:OPAQUE
END:VEVENT
BEGIN:VEVENT
DTSTART:20260301T133000Z
DTEND:20260301T150000Z
DTSTAMP:20260422T132700Z
UID:462267
CREATED:20260422T132700Z
DESCRIPTION:VDP1-0040: Kruikenburg Ternat B - Wolvertem Sporting A\n\n
	Locatie: Ternat, Sporthal Kruikenburg\n't Serclaesstraat 1A, 1740 Tern
	at\n\nLaatste update: 22/04/2026 15:27\n\nDe wedstrijd info wordt mins
	tens 1x per dag geupdate. Dus als de update datum niet recent is, dan 
	kan het zijn dat je niet de laatste informatie hebt. Dit ligt typisch 
	aan instellingen op je telefoon.
LAST-MODIFIED:20260422T132700Z
LOCATION:Ternat, Sporthal Kruikenburg, 't Serclaesstraat 1A, 1740 Tern
	at Belgie
SEQUENCE:0
STATUS:CONFIRMED
SUMMARY:VDP1-0040: Kruikenburg Ternat B - Wolvertem Sporting A
TRANSP:OPAQUE
END:VEVENT
BEGIN:VEVENT
DTSTART:20260404T190000Z
DTEND:20260404T203000Z
DTSTAMP:20260422T132700Z
UID:462273
CREATED:20260422T132700Z
DESCRIPTION:VDP1-0046: Wolvertem Sporting A - VC Feniks Haacht A\n\nLo
	catie: Wolvertem, Sportschuur\nPopulierenlaan 20, 1861 Wolvertem\n\nLa
	atste update: 22/04/2026 15:27\n\nDe wedstrijd info wordt minstens 1x 
	per dag geupdate. Dus als de update datum niet recent is, dan kan het 
	zijn dat je niet de laatste informatie hebt. Dit ligt typisch aan inst
	ellingen op je telefoon.
LAST-MODIFIED:20260422T132700Z
LOCATION:Wolvertem, Sportschuur, Populierenlaan 20, 1861 Wolvertem Bel
	gie
SEQUENCE:0
STATUS:CONFIRMED
SUMMARY:VDP1-0046: Wolvertem Sporting A - VC Feniks Haacht A
TRANSP:OPAQUE
END:VEVENT
BEGIN:VEVENT
DTSTART:20251122T200000Z
DTEND:20251122T213000Z
DTSTAMP:20260422T132700Z
UID:462279
CREATED:20260422T132700Z
DESCRIPTION:VDP1-0052: Volley Opwijk A - Wolvertem Sporting A\n\nLocat
	ie: Opwijk, Sportzaal Vrij Katholiek Onderwijs\nKarenveldstraat 23, 17
	45 Opwijk\n\nLaatste update: 22/04/2026 15:27\n\nDe wedstrijd info wor
	dt minstens 1x per dag geupdate. Dus als de update datum niet recent i
	s, dan kan het zijn dat je niet de laatste informatie hebt. Dit ligt t
	ypisch aan instellingen op je telefoon.
LAST-MODIFIED:20260422T132700Z
LOCATION:Opwijk, Sportzaal Vrij Katholiek Onderwijs, Karenveldstraat 2
	3, 1745 Opwijk Belgie
SEQUENCE:0
STATUS:CONFIRMED
SUMMARY:VDP1-0052: Volley Opwijk A - Wolvertem Sporting A
TRANSP:OPAQUE
END:VEVENT
BEGIN:VEVENT
DTSTART:20260328T160000Z
DTEND:20260328T173000Z
DTSTAMP:20260422T132700Z
UID:462287
CREATED:20260422T132700Z
DESCRIPTION:VDP1-0060: Wolvertem Sporting A - Berg-op Wijgmaal B\n\nLo
	catie: Wolvertem, Sportschuur\nPopulierenlaan 20, 1861 Wolvertem\n\nLa
	atste update: 22/04/2026 15:27\n\nDe wedstrijd info wordt minstens 1x 
	per dag geupdate. Dus als de update datum niet recent is, dan kan het 
	zijn dat je niet de laatste informatie hebt. Dit ligt typisch aan inst
	ellingen op je telefoon.
LAST-MODIFIED:20260422T132700Z
LOCATION:Wolvertem, Sportschuur, Populierenlaan 20, 1861 Wolvertem Bel
	gie
SEQUENCE:0
STATUS:CONFIRMED
SUMMARY:VDP1-0060: Wolvertem Sporting A - Berg-op Wijgmaal B
TRANSP:OPAQUE
END:VEVENT
BEGIN:VEVENT
DTSTART:20251207T170000Z
DTEND:20251207T183000Z
DTSTAMP:20260422T132700Z
UID:462291
CREATED:20260422T132700Z
DESCRIPTION:VDP1-0064: Volley Eternit Kapelle-op-den-Bos A - Wolvertem
	 Sporting A\n\nLocatie: Kapelle-op-den-Bos, Sporthal Eternit\nWestdijk
	 , 1880 Kapelle-op-den-Bos\n\nLaatste update: 22/04/2026 15:27\n\nDe w
	edstrijd info wordt minstens 1x per dag geupdate. Dus als de update da
	tum niet recent is, dan kan het zijn dat je niet de laatste informatie
	 hebt. Dit ligt typisch aan instellingen op je telefoon.
LAST-MODIFIED:20260422T132700Z
LOCATION:Kapelle-op-den-Bos, Sporthal Eternit, Westdijk, 1880 Kapelle-
	op-den-Bos Belgie
SEQUENCE:0
STATUS:CONFIRMED
SUMMARY:VDP1-0064: Volley Eternit Kapelle-op-den-Bos A - Wolvertem Sporting A
TRANSP:OPAQUE
END:VEVENT
BEGIN:VEVENT
DTSTART:20260103T200000Z
DTEND:20260103T213000Z
DTSTAMP:20260422T132700Z
UID:462298
CREATED:20260422T132700Z
DESCRIPTION:VDP1-0071: Wolvertem Sporting A - Zuun Volleybal Club A\n\
	nLocatie: Wolvertem, Sportschuur\nPopulierenlaan 20, 1861 Wolvertem\n\
	nLaatste update: 22/04/2026 15:27\n\nDe wedstrijd info wordt minstens 
	1x per dag geupdate. Dus als de update datum niet recent is, dan kan h
	et zijn dat je niet de laatste informatie hebt. Dit ligt typisch aan i
	nstellingen op je telefoon.
LAST-MODIFIED:20260422T132700Z
LOCATION:Wolvertem, Sportschuur, Populierenlaan 20, 1861 Wolvertem Bel
	gie
SEQUENCE:0
STATUS:CONFIRMED
SUMMARY:VDP1-0071: Wolvertem Sporting A - Zuun Volleybal Club A
TRANSP:OPAQUE
END:VEVENT
BEGIN:VEVENT
DTSTART:20260221T200000Z
DTEND:20260221T213000Z
DTSTAMP:20260422T132700Z
UID:462305
CREATED:20260422T132700Z
DESCRIPTION:VDP1-0078: Wolvertem Sporting A - Volley Haasrode Leuven D
	\n\nLocatie: Wolvertem, Sportschuur\nPopulierenlaan 20, 1861 Wolvertem
	\n\nLaatste update: 22/04/2026 15:27\n\nDe wedstrijd info wordt minste
	ns 1x per dag geupdate. Dus als de update datum niet recent is, dan ka
	n het zijn dat je niet de laatste informatie hebt. Dit ligt typisch aa
	n instellingen op je telefoon.
LAST-MODIFIED:20260422T132700Z
LOCATION:Wolvertem, Sportschuur, Populierenlaan 20, 1861 Wolvertem Bel
	gie
SEQUENCE:0
STATUS:CONFIRMED
SUMMARY:VDP1-0078: Wolvertem Sporting A - Volley Haasrode Leuven D
TRANSP:OPAQUE
END:VEVENT
BEGIN:VEVENT
DTSTART:20260117T200000Z
DTEND:20260117T213000Z
DTSTAMP:20260422T132700Z
UID:462310
CREATED:20260422T132700Z
DESCRIPTION:VDP1-0083: Wolvertem Sporting A - Kreg Rotselaar A\n\nLoca
	tie: Wolvertem, Sportschuur\nPopulierenlaan 20, 1861 Wolvertem\n\nLaat
	ste update: 22/04/2026 15:27\n\nDe wedstrijd info wordt minstens 1x pe
	r dag geupdate. Dus als de update datum niet recent is, dan kan het zi
	jn dat je niet de laatste informatie hebt. Dit ligt typisch aan instel
	lingen op je telefoon.
LAST-MODIFIED:20260422T132700Z
LOCATION:Wolvertem, Sportschuur, Populierenlaan 20, 1861 Wolvertem Bel
	gie
SEQUENCE:0
STATUS:CONFIRMED
SUMMARY:VDP1-0083: Wolvertem Sporting A - Kreg Rotselaar A
TRANSP:OPAQUE
END:VEVENT
BEGIN:VEVENT
DTSTART:20260124T193000Z
DTEND:20260124T210000Z
DTSTAMP:20260422T132700Z
UID:462315
CREATED:20260422T132700Z
DESCRIPTION:VDP1-0088: Grivok Grimbergen A - Wolvertem Sporting A\n\nL
	ocatie: Grimbergen, Gemeentelijke Sporthal Prinsenbos\nPastoor Wouters
	straat , 1850 Grimbergen\n\nLaatste update: 22/04/2026 15:27\n\nDe wed
	strijd info wordt minstens 1x per dag geupdate. Dus als de update datu
	m niet recent is, dan kan het zijn dat je niet de laatste informatie h
	ebt. Dit ligt typisch aan instellingen op je telefoon.
LAST-MODIFIED:20260422T132700Z
LOCATION:Grimbergen, Gemeentelijke Sporthal Prinsenbos, Pastoor Wouter
	sstraat, 1850 Grimbergen Belgie
SEQUENCE:0
STATUS:CONFIRMED
SUMMARY:VDP1-0088: Grivok Grimbergen A - Wolvertem Sporting A
TRANSP:OPAQUE
END:VEVENT
BEGIN:VEVENT
DTSTART:20260303T193000Z
DTEND:20260303T210000Z
DTSTAMP:20260422T132700Z
UID:462322
CREATED:20260422T132700Z
DESCRIPTION:VDP1-0095: Wolvertem Sporting A - Wevok St.-Joris-Weert A 
	\n\nLocatie: Wolvertem, Sportschuur\nPopulierenlaan 20, 1861 Wolvertem
	\n\nLaatste update: 22/04/2026 15:27\n\nDe wedstrijd info wordt minste
	ns 1x per dag geupdate. Dus als de update datum niet recent is, dan ka
	n het zijn dat je niet de laatste informatie hebt. Dit ligt typisch aa
	n instellingen op je telefoon.
LAST-MODIFIED:20260422T132700Z
LOCATION:Wolvertem, Sportschuur, Populierenlaan 20, 1861 Wolvertem Bel
	gie
SEQUENCE:0
STATUS:CONFIRMED
SUMMARY:VDP1-0095: Wolvertem Sporting A - Wevok St.-Joris-Weert A 
TRANSP:OPAQUE
END:VEVENT
BEGIN:VEVENT
DTSTART:20251025T190000Z
DTEND:20251025T203000Z
DTSTAMP:20260422T132700Z
UID:462325
CREATED:20260422T132700Z
DESCRIPTION:VDP1-0098: Wolvertem Sporting A - Golazo Averbode A\n\nLoc
	atie: Wolvertem, Sportschuur\nPopulierenlaan 20, 1861 Wolvertem\n\nLaa
	tste update: 22/04/2026 15:27\n\nDe wedstrijd info wordt minstens 1x p
	er dag geupdate. Dus als de update datum niet recent is, dan kan het z
	ijn dat je niet de laatste informatie hebt. Dit ligt typisch aan inste
	llingen op je telefoon.
LAST-MODIFIED:20260422T132700Z
LOCATION:Wolvertem, Sportschuur, Populierenlaan 20, 1861 Wolvertem Bel
	gie
SEQUENCE:0
STATUS:CONFIRMED
SUMMARY:VDP1-0098: Wolvertem Sporting A - Golazo Averbode A
TRANSP:OPAQUE
END:VEVENT
BEGIN:VEVENT
DTSTART:20251108T160000Z
DTEND:20251108T173000Z
DTSTAMP:20260422T132700Z
UID:462333
CREATED:20260422T132700Z
DESCRIPTION:VDP1-0106: Wolvertem Sporting A - Kruikenburg Ternat B\n\n
	Locatie: Wolvertem, Sportschuur\nPopulierenlaan 20, 1861 Wolvertem\n\n
	Laatste update: 22/04/2026 15:27\n\nDe wedstrijd info wordt minstens 1
	x per dag geupdate. Dus als de update datum niet recent is, dan kan he
	t zijn dat je niet de laatste informatie hebt. Dit ligt typisch aan in
	stellingen op je telefoon.
LAST-MODIFIED:20260422T132700Z
LOCATION:Wolvertem, Sportschuur, Populierenlaan 20, 1861 Wolvertem Bel
	gie
SEQUENCE:0
STATUS:CONFIRMED
SUMMARY:VDP1-0106: Wolvertem Sporting A - Kruikenburg Ternat B
TRANSP:OPAQUE
END:VEVENT
BEGIN:VEVENT
DTSTART:20251115T140000Z
DTEND:20251115T153000Z
DTSTAMP:20260422T132700Z
UID:462337
CREATED:20260422T132700Z
DESCRIPTION:VDP1-0110: VC Feniks Haacht A - Wolvertem Sporting A\n\nLo
	catie: Wespelaar, Sportcomplex Den Dijk\nDijkstraat 1, 3150 Haacht (We
	spelaar)\n\nLaatste update: 22/04/2026 15:27\n\nDe wedstrijd info word
	t minstens 1x per dag geupdate. Dus als de update datum niet recent is
	, dan kan het zijn dat je niet de laatste informatie hebt. Dit ligt ty
	pisch aan instellingen op je telefoon.
LAST-MODIFIED:20260422T132700Z
LOCATION:Wespelaar, Sportcomplex Den Dijk, Dijkstraat 1, 3150 Haacht (
	Wespelaar) Belgie
SEQUENCE:0
STATUS:CONFIRMED
SUMMARY:VDP1-0110: VC Feniks Haacht A - Wolvertem Sporting A
TRANSP:OPAQUE
END:VEVENT
BEGIN:VEVENT
DTSTART:20260314T200000Z
DTEND:20260314T213000Z
DTSTAMP:20260422T132700Z
UID:462345
CREATED:20260422T132700Z
DESCRIPTION:VDP1-0118: Wolvertem Sporting A - Volley Opwijk A\n\nLocat
	ie: Wolvertem, Sportschuur\nPopulierenlaan 20, 1861 Wolvertem\n\nLaats
	te update: 22/04/2026 15:27\n\nDe wedstrijd info wordt minstens 1x per
	 dag geupdate. Dus als de update datum niet recent is, dan kan het zij
	n dat je niet de laatste informatie hebt. Dit ligt typisch aan instell
	ingen op je telefoon.
LAST-MODIFIED:20260422T132700Z
LOCATION:Wolvertem, Sportschuur, Populierenlaan 20, 1861 Wolvertem Bel
	gie
SEQUENCE:0
STATUS:CONFIRMED
SUMMARY:VDP1-0118: Wolvertem Sporting A - Volley Opwijk A
TRANSP:OPAQUE
END:VEVENT
BEGIN:VEVENT
DTSTART:20251129T193000Z
DTEND:20251129T210000Z
DTSTAMP:20260422T132700Z
UID:462353
CREATED:20260422T132700Z
DESCRIPTION:VDP1-0126: Berg-op Wijgmaal B - Wolvertem Sporting A\n\nLo
	catie: Wijgmaal, Ymeria\nPastoor Bellonstraat 29, 3018 Wijgmaal\n\nLaa
	tste update: 22/04/2026 15:27\n\nDe wedstrijd info wordt minstens 1x p
	er dag geupdate. Dus als de update datum niet recent is, dan kan het z
	ijn dat je niet de laatste informatie hebt. Dit ligt typisch aan inste
	llingen op je telefoon.
LAST-MODIFIED:20260422T132700Z
LOCATION:Wijgmaal, Ymeria, Pastoor Bellonstraat 29, 3018 Wijgmaal Belg
	ie
SEQUENCE:0
STATUS:CONFIRMED
SUMMARY:VDP1-0126: Berg-op Wijgmaal B - Wolvertem Sporting A
TRANSP:OPAQUE
END:VEVENT
BEGIN:VEVENT
DTSTART:20260418T190000Z
DTEND:20260418T203000Z
DTSTAMP:20260422T132700Z
UID:462359
CREATED:20260422T132700Z
DESCRIPTION:VDP1-0132: Wolvertem Sporting A - Volley Eternit Kapelle-o
	p-den-Bos A\n\nLocatie: Wolvertem, Sportschuur\nPopulierenlaan 20, 186
	1 Wolvertem\n\nLaatste update: 22/04/2026 15:27\n\nDe wedstrijd info w
	ordt minstens 1x per dag geupdate. Dus als de update datum niet recent
	 is, dan kan het zijn dat je niet de laatste informatie hebt. Dit ligt
	 typisch aan instellingen op je telefoon.
LAST-MODIFIED:20260422T132700Z
LOCATION:Wolvertem, Sportschuur, Populierenlaan 20, 1861 Wolvertem Bel
	gie
SEQUENCE:0
STATUS:CONFIRMED
SUMMARY:VDP1-0132: Wolvertem Sporting A - Volley Eternit Kapelle-op-den-Bos A
TRANSP:OPAQUE
END:VEVENT
END:VCALENDAR